BEGIN:VCALENDAR
VERSION:2.0
PRODID:-//INSAS - ECPv6.0.4//NONSGML v1.0//EN
CALSCALE:GREGORIAN
METHOD:PUBLISH
X-ORIGINAL-URL:https://insas.be
X-WR-CALDESC:évènements pour INSAS
REFRESH-INTERVAL;VALUE=DURATION:PT1H
X-Robots-Tag:noindex
X-PUBLISHED-TTL:PT1H
BEGIN:VTIMEZONE
TZID:Europe/Brussels
BEGIN:DAYLIGHT
TZOFFSETFROM:+0100
TZOFFSETTO:+0200
TZNAME:CEST
DTSTART:20200329T010000
END:DAYLIGHT
BEGIN:STANDARD
TZOFFSETFROM:+0200
TZOFFSETTO:+0100
TZNAME:CET
DTSTART:20201025T010000
END:STANDARD
BEGIN:DAYLIGHT
TZOFFSETFROM:+0100
TZOFFSETTO:+0200
TZNAME:CEST
DTSTART:20210328T010000
END:DAYLIGHT
BEGIN:STANDARD
TZOFFSETFROM:+0200
TZOFFSETTO:+0100
TZNAME:CET
DTSTART:20211031T010000
END:STANDARD
BEGIN:DAYLIGHT
TZOFFSETFROM:+0100
TZOFFSETTO:+0200
TZNAME:CEST
DTSTART:20220327T010000
END:DAYLIGHT
BEGIN:STANDARD
TZOFFSETFROM:+0200
TZOFFSETTO:+0100
TZNAME:CET
DTSTART:20221030T010000
END:STANDARD
BEGIN:DAYLIGHT
TZOFFSETFROM:+0100
TZOFFSETTO:+0200
TZNAME:CEST
DTSTART:20230326T010000
END:DAYLIGHT
BEGIN:STANDARD
TZOFFSETFROM:+0200
TZOFFSETTO:+0100
TZNAME:CET
DTSTART:20231029T010000
END:STANDARD
BEGIN:DAYLIGHT
TZOFFSETFROM:+0100
TZOFFSETTO:+0200
TZNAME:CEST
DTSTART:20240331T010000
END:DAYLIGHT
BEGIN:STANDARD
TZOFFSETFROM:+0200
TZOFFSETTO:+0100
TZNAME:CET
DTSTART:20241027T010000
END:STANDARD
END:VTIMEZONE
BEGIN:VEVENT
DTSTART;TZID=Europe/Brussels:20201007T203000
DTEND;TZID=Europe/Brussels:20201011T150000
DTSTAMP:20260422T152552
CREATED:20201001T102311Z
LAST-MODIFIED:20201002T114306Z
UID:18043-1602102600-1602428400@insas.be
SUMMARY:Antoine et Cléopâtre - Production de fin d’études du Master Interprétation Dramatique 2019/2020
DESCRIPTION:Antoine et Cléopâtre \nUne adaptation de la pièce de William Shakespeare\nDirigée par Olivier Boudon \nSur la grande scène du monde\, Antoine et Cléopâtre s’aiment d’une passion impossible. Envers et contre tous\, y compris eux-mêmes\, ils s’obstinent\, écartelés entre le devoir politique et un amour irrésistible. Jusqu’à leur dernier souffle. Car quelle place peut avoir l’amour dans une histoire de puissants ? \nAprès le report de leur exercice de fin d’études dû à la crise sanitaire\, les étudiant.e.s du Master Interprétation Dramatique 2019 – 2020 retrouvent le plateau. Dans une création éclair\, iels s’attaquent\, sous la direction d’Olivier Boudon\, à la tragédie de Shakespeare dans une version transgressive où se mélangent les genres et les codes. \nUn banquet où des mondes s’opposent : le féminin et le masculin\, la vie publique et la vie privée\, l’Orient et l’Occident. Autour de la table\, ceux qui s’affrontent vont aller jusqu’à se confondre\, ceux qui désirent\, se dévorer et\, toujours\, les rapports de pouvoir et de domination vont se jouer jusqu’à l’anéantissement. Mais une fois que tout a été dit\, que la fête est finie\, le banquet terminé et la partie jouée\, peut-être ne restera-t-il plus\, alors\, qu’à parler d’amour. \nAvec Naim Belhaloumi\, Sarah Ber\, Leila Devin\, Garance Durand-Caminos\, Emma Gilles-Rousseau\, Cyriel Lucas\, Garance Mazureck\, Siegfried Moncada\, Léa Quinsac\, Anthony Ruotte\, Jean Schabel\, Tatia Tsuladze\, Alexis Vandist\, Jonas Wertz \nEn collaboration avec les étudiants 3ème et 4ème année de théâtre et technique de communication : Assistanat à la mise en scène: Guillaume Jacob – Dramaturgie : Léa Chanteau – Costumes : Nedjma Dulout et Solene Valentin – Lumières : Alyssa Tzavaras et Jonathan Kibani – Scénographie : Fanny Gelas-Mignon et Loïc Leroy – Son: Arthur Trigaux et Lucien Dumesnil \nEquipe pédagogique : Adaptation et mise en scène : Olivier Boudon – Costumes : Fabienne Damiean – Lumière Julie Petit-Etienne – Régie générale : Ledicia Garcia – Scénographie : Christine Grégoire – Son Brice : Cannavo – Communication : Meryl Moens – Coordination : Michel Boermans – Production : Michel Van Slijpe \nDu 7 au 10 octobre 2020 – 20h30\nLe 11 octobre 2020 – 15h\nA l’INSAS site Rabelais – Rue Jules Bouillons 1\, 1050 Bruxelles\nRéservations : reservations.ac@insas.be\nOuverture des portes : 30 min avant la représentation \nOuverture des portes : 30 min avant la représentation\nLes mesures de prévention COVID19 sont d’application dès l’entrée dans le bâtiment.
URL:https://insas.be/evenement/antoine-et-cleopatre-production-de-fin-detudes-du-master-interpretation-dramatique-2019-2020-2020-10-11/
LOCATION:INSAS – Département Théâtre\, Rue Émile Féron 153\, Bruxelles\, 1060
CATEGORIES:Théâtre
ATTACH;FMTTYPE=image/jpeg:https://insas.be/site/wp-content/uploads/2020/10/AC-banner-Facebook-copie.jpg
GEO:50.8348664;4.366394
X-APPLE-STRUCTURED-LOCATION;VALUE=URI;X-ADDRESS=INSAS – Département Théâtre Rue Émile Féron 153 Bruxelles 1060;X-APPLE-RADIUS=500;X-TITLE=Rue Émile Féron 153:geo:4.366394,50.8348664
END:VEVENT
BEGIN:VEVENT
DTSTART;TZID=Europe/Brussels:20210610T190000
DTEND;TZID=Europe/Brussels:20210610T220000
DTSTAMP:20260422T152552
CREATED:20210602T082736Z
LAST-MODIFIED:20210610T092346Z
UID:19231-1623351600-1623362400@insas.be
SUMMARY:OUTSAS #1 - Production de fin d'études du Master en Interprétation Dramatique
DESCRIPTION:Dans l’air\nD’après Violentes femmes de Christophe Honoré\nTravail dirigé par Armel Roussel \nLes 8 comédien.ne.s sortant.e.s de Master en Interprétation Dramatique\, ainsi que les étudiant.e.s de la section Théâtre et Mise en Scène\, sous la direction de Armel Roussel\, proposent ici le fruit de leur travail à partir de la pièce Violentes femmes de Christophe Honoré. \nUn studio radio. Un groupe de jeunes gens. Le café coule\, les micros sont prêts. Iels s’apprêtent à enregistrer une fiction sonore : la pièce de théâtre Violentes Femmes de Christophe Honoré. \nLe 6 décembre 1989\, Marc Lépine massacre quatorze femmes à l’École polytechnique de Montréal : « j’ai décidé d’envoyer ad patres les féministes qui m’ont toujours gâché la vie ». En 1947 en France\, Odette voit la Vierge et passe le reste de sa vie à témoigner : « dites aux petits enfants de prier pour la France\, car elle en a grand besoin ». Ces deux histoires coexistent dans la fiction de Christophe Honoré\, sans jamais nous en dire la raison\, et nous laissent libres d’interroger les échos qu’elles se font. A partir de cette matière documentaire\, l’auteur crée une forme hybride\, ni dyptique\, ni chorale\, où la juxtaposition et le rebond sont maîtres mots. \nSous la direction d’Armel Roussel\, les étudiant·e·s s’emparent de cet assemblage\, mêlant et démêlant les liens entre fiction et documentaire. C’est dans ce studio radio qu’iels explorent la porosité entre le réel du plateau et le réel du monde. Ensemble\, iels traversent la question du féminisme\, de la foi\, du désir et de notre relation aux icônes. \nDes récits des survivantes à celui d’Odette et sa belle dame\, en passant par des écrits masculinistes et l’histoire de Romy Schneider\, DANS L’AIR interroge le tumulte de la représentation et in fine\, celui de l’incarnation. \nAvec : Louis Affergan\, Olga David-Rigot\, Zenabou Mbamba\, Eva Papageorgiou\, Alba Porte\, Emma Seine\, Thibault Sforza & Zoé Sjollema. \nEn collaboration avec les étudiants en 3ème et 4ème année de théâtre et techniques de communication : Assistanat à la mise en scène Warda Rammach – Costumes Clara Bellemans – Lumières Mizuki Kondo & Ludmilla Reuse – Scénographie Adèle Evans & Guillaume Jacob – Son Julia Hernandez & Selma Raphard – Production et Communication Delphine Friquet. \nEquipe pédagogique : Direction du travail et adaptation du texte Armel Roussel – Costumes Fabienne Damiean – Lumière Laurence Halloy – Scénographie Christine Grégoire – Son Brice Cannavo – Collaboration graphique Tess Hadri – Communication Meryl Moens – Coordination Michel Boermans – Production Michel Van Slijpe. \nUne production de l’INSAS\n  \nDu 10 au 15 juin 2021 – 19h à 22h\nLe 13 juin 2021 – 15h\nA l’INSAS site Rabelais – Rue Jules Bouillon 1\, 1050 Bruxelles\nOuverture des portes : 1h avant la représentation avec mise en place d’une liste d’attente\nRéservations: reservationsdanslair@insas.be \nLes mesures de prévention COVID19 (distances sociales et masques) sont d’application dès l’entrée dans le bâtiment et durant toute la durée de la représentation. Des stations de désinfection seront à disposition. \n  \nOUTSAS  3 rendez-vous#1 | 10 au 15 juin • Production Fin d’Etude • Dans l’air • Master Interprétation Dramatique#2 | 26 au 28 juin • Mises en scène\, Lectures et Chorégraphie – Master Théâtre et Écriture – Certificat Danse#3 | 29 et 30 juin • Projections “Regards Croisés” et Films de Fin d’Etudes – Master Cinéma
URL:https://insas.be/evenement/outsas-1-production-de-fin-detudes-du-master-en-interpretation-dramatique/2021-06-10/
LOCATION:INSAS – Département Théâtre\, Rue Émile Féron 153\, Bruxelles\, 1060
ATTACH;FMTTYPE=application/pdf:https://insas.be/site/wp-content/uploads/2021/05/Cover-fb-2-Dans-lAir-.pdf
GEO:50.8348664;4.366394
X-APPLE-STRUCTURED-LOCATION;VALUE=URI;X-ADDRESS=INSAS – Département Théâtre Rue Émile Féron 153 Bruxelles 1060;X-APPLE-RADIUS=500;X-TITLE=Rue Émile Féron 153:geo:4.366394,50.8348664
END:VEVENT
BEGIN:VEVENT
DTSTART;TZID=Europe/Brussels:20210626T190000
DTEND;TZID=Europe/Brussels:20210626T220000
DTSTAMP:20260422T152552
CREATED:20210609T144736Z
LAST-MODIFIED:20210624T074154Z
UID:19416-1624734000-1624744800@insas.be
SUMMARY:OUTSAS #2 - Lectures\, Chorégraphie et Mise en scène
DESCRIPTION:Les 26\, 27 et 28 juin seront présentés les projets des étudiant.e.s de Master Théâtre & Ecriture\, ainsi qu’une Chorégraphie sélectionnée dans le cadre du Certificat Danse en partenariat avec La Cambre et Charleroi Danse. \nLectures\n19:00 – @HÔM de Alix Leridon \n@Hôm est une pièce librement inspirée d’une expérience vécue par l’auteure\, alors qu’elle était salariée au sein d’une start-up américaine de décoration d’intérieur. L’action se déroule simultanément dans deux villes différentes : Palo Alto et Paris\, où se trouvent respectivement le siège et la filiale française de l’entreprise Hôm.\nAvec humour\, Alix raconte comment le langage et les habitus néolibéraux peuvent coller à la peau\, et à quel point ils conditionnent nos modes d’agir et d’existence. \n20:00 – Square Edison de Adrien Dhose \nUne tour. Une immense tour. La tour Edison. Le coeur battant d’une ville qui n’arrête jamais sa course. Aux pieds de cette tour\, un square\, une bulle\, une petite bulle d’air écrasée par le bruit luttant pour exister.\nDans ce square\, des citoyen.ne.s qui tentent d’accorder leurs souffles au rythme des respirations de leur cité.\nQu’est-ce qu’on fait quand tout autour de nous n’est qu’un élan ? Qu’est-ce qu’on fait pour se raccorder au courant ? Qu’est-ce qu’on fait pour se trouver une cohérence ? Qu’est-ce qu’on fait ? Qu’est-ce que chacun.e de nous\, fait… \n21:00 – Le Berceau des Sourires de Florian Van Gils \nDans un quartier résidentiel\, Sarah F\, une jeune fille de 12 ans\, est retrouvée étranglée\, nue et violée dans le bois avoisinant. Suite à ce meurtre\, de nombreuses marches ont lieu\, des associations d’aides aux enfants sont créées\, notamment Le Berceau des Sourires. Mais aucun suspect ni coupable n’est trouvé. 14 ans plus tard\, Eddy et Jessica\, un couple de journalistes passionné.e.s\, enquêtent et retracent cette affaire\, suite à une révélation : l’intervention de Claire M\, meilleure amie de la défunte\, qui rebat les cartes et nomme un possible coupable. \nChorégraphie\n20:00 – CRUCE de Marcos Arriola \n“Il y a des corps qui portent leurs corps comme si c’était une porcelaine chinoise de la dynastie Ming. D’autres portent leur corps comme de vulgaires manteaux de peaux. Il y a ceux qui prennent les pénis des autres entre leurs mains jusqu’à les faire éjaculer. Il y a des gens qui le considèrent comme de la haute technologie. D’autres n’entendent la liberté que comme quelque chose que le corps peut réussir. Alors\, peut-on encore parler d’un corps humain comme s’il s’agissait d’un corps unique ?” \n   Paul B Preciado \n\nChorégraphie et conception : Marcos Arriola\nPerformeur.euse.s / collaborateur.rices.s : Hugo Chanel\, Brenda Boote Bidal\, Sarah Gérodez\, Maria Paz Moreno Villanueva\, Juliette Mello\nMusique : SoFa\nLumière : Thomas Beni\nStylisme : Arnaud Tsiakas\n\n\nMise en scène\n21:00 – LE SBEUL de Jonathan Moncef Kibani Boussaleh \nOn a l’Amour au cœur\, une touche d’humour et une certaine expérience de la noblesse humaine\, mais pour combien de temps ? \nCette question\, quand le racisme a participé à façonner notre ligne de vie\, il arrive qu’on la porte comme un boulet dont le frottement au sol ne fait que répéter à nos oreilles “Sers les dents\, encore. Sers les dents\, encore”. Il est temps de s’alléger un peu\, de trouver un geste\, un partage\, un échange entier et sincère tant envers nous même qu’envers toi. \nActeur.rice.s : Warda Rammach\, Edson Anibal\, Jean-Marc Judith\nArtistes technicien.ne.s : Selma Raphard\, Marguerite Boyer\, Judith Gaillard\, Louise Moret\, Florentin Crouzet-Nico\n\n\n\n\n\nRESERVATIONS : CLIQUEZ ICI\nLe mesures de prévention du COVID19 ne nous permettant pas d’accueillir un grand nombre de personnes\, le nombre de place est limité.\n  \nOUTSAS  3 rendez-vous#1 | 10 au 15 juin • Production Fin d’Etude • Dans l’air • Master Interprétation Dramatique#2 | 26 au 28 juin • Lectures\, Chorégraphie et Mises en scène – Master Théâtre et Écriture – Certificat Danse#3 | 29 et 30 juin • Projections “Regards Croisés” et Films de Fin d’Etudes – Master Cinéma
URL:https://insas.be/evenement/outsas-2-mise-en-scene-lectures-et-choregraphie-du-master-theatre-ecriture/2021-06-26/
LOCATION:INSAS – Département Théâtre\, Rue Émile Féron 153\, Bruxelles\, 1060
ATTACH;FMTTYPE=image/jpeg:https://insas.be/site/wp-content/uploads/2019/05/Visuel-TTC_MBP8372_DxO-Rabelais-juin21-scaled.jpeg
GEO:50.8348664;4.366394
X-APPLE-STRUCTURED-LOCATION;VALUE=URI;X-ADDRESS=INSAS – Département Théâtre Rue Émile Féron 153 Bruxelles 1060;X-APPLE-RADIUS=500;X-TITLE=Rue Émile Féron 153:geo:4.366394,50.8348664
END:VEVENT
BEGIN:VEVENT
DTSTART;TZID=Europe/Brussels:20230627T180000
DTEND;TZID=Europe/Brussels:20230627T220000
DTSTAMP:20260422T152552
CREATED:20230620T095540Z
LAST-MODIFIED:20230625T160332Z
UID:23226-1687888800-1687903200@insas.be
SUMMARY:OUTSAS 23 #4 · Mises en scènes et Lectures · Masters Théâtre Mise en scène et Ecriture
DESCRIPTION:Les 27\, 28 et 29 juin\, nous vous donnons rendez-vous pour le 4ème et dernier temps fort d’OUTSAS : les mises en scène et lectures des étudiant·e·s des Masters Théâtre Mise en scène & Ecriture. \nPROGRAMME \n \nLes spectacles sont à la carte\, il ne faut pas suivre un parcours spécifique ! \nPROGRAMME DÉTAILLÉ \nRÉSERVATIONS GRATUITES INDISPENSABLES à : reservations@insas.be (préciser les projets qui vous intéressent !) \n  \n27 au 29 juin | 18h – 22h | INSAS site Féron – 153 Rue Émile Féron\, 1060 BXL \n  \n  \n© photo : Margot Briand
URL:https://insas.be/evenement/outsas-23-4-%c2%b7-mises-en-scenes-et-lectures-%c2%b7-masters-theatre-mise-en-scene-et-ecriture/2023-06-27/
LOCATION:INSAS – Département Théâtre\, Rue Émile Féron 153\, Bruxelles\, 1060
ATTACH;FMTTYPE=image/jpeg:https://insas.be/site/wp-content/uploads/2023/06/DSC_8270-copy-scaled.jpg
GEO:50.8348664;4.366394
X-APPLE-STRUCTURED-LOCATION;VALUE=URI;X-ADDRESS=INSAS – Département Théâtre Rue Émile Féron 153 Bruxelles 1060;X-APPLE-RADIUS=500;X-TITLE=Rue Émile Féron 153:geo:4.366394,50.8348664
END:VEVENT
BEGIN:VEVENT
DTSTART;TZID=Europe/Brussels:20240503T190000
DTEND;TZID=Europe/Brussels:20240505T173000
DTSTAMP:20260422T152552
CREATED:20240426T104416Z
LAST-MODIFIED:20240426T125207Z
UID:24523-1714762800-1714930200@insas.be
SUMMARY:OUTSAS 24 #1 · Mises en scènes · Master Théâtre
DESCRIPTION:Du 03 au 05 mai\, l’INSAS vous invite à découvrir les projets des étudiant·e·s des Masters Théâtre et techniques de communication\, Mise en scène. \nPROGRAMME \n \nPROGRAMME DÉTAILLÉ \nRÉSERVATIONS GRATUITES INDISPENSABLES à : reservations@insas.be \n03 et 04 mai | 19h – 21h30\n 05 mai | 15h – 17h30\nINSAS site Féron – 153 Rue Émile Féron\, 1060 BXL\n \n© photo : Margot Briand\n© visuel : Jorge Sanchez Romero
URL:https://insas.be/evenement/outsas-24-1-%c2%b7-mises-en-scenes-%c2%b7-masters-theatre-mise-en-scene/
LOCATION:INSAS – Département Théâtre\, Rue Émile Féron 153\, Bruxelles\, 1060
CATEGORIES:INSAS
ATTACH;FMTTYPE=image/jpeg:https://insas.be/site/wp-content/uploads/2024/04/BANNER_MSC_INSTAGRAM.jpg
GEO:50.8348664;4.366394
X-APPLE-STRUCTURED-LOCATION;VALUE=URI;X-ADDRESS=INSAS – Département Théâtre Rue Émile Féron 153 Bruxelles 1060;X-APPLE-RADIUS=500;X-TITLE=Rue Émile Féron 153:geo:4.366394,50.8348664
END:VEVENT
END:VCALENDAR