BEGIN:VCALENDAR
VERSION:2.0
PRODID:-//INSAS - ECPv6.0.4//NONSGML v1.0//EN
CALSCALE:GREGORIAN
METHOD:PUBLISH
X-ORIGINAL-URL:https://insas.be
X-WR-CALDESC:évènements pour INSAS
REFRESH-INTERVAL;VALUE=DURATION:PT1H
X-Robots-Tag:noindex
X-PUBLISHED-TTL:PT1H
BEGIN:VTIMEZONE
TZID:Europe/Brussels
BEGIN:DAYLIGHT
TZOFFSETFROM:+0100
TZOFFSETTO:+0200
TZNAME:CEST
DTSTART:20170326T010000
END:DAYLIGHT
BEGIN:STANDARD
TZOFFSETFROM:+0200
TZOFFSETTO:+0100
TZNAME:CET
DTSTART:20171029T010000
END:STANDARD
BEGIN:DAYLIGHT
TZOFFSETFROM:+0100
TZOFFSETTO:+0200
TZNAME:CEST
DTSTART:20180325T010000
END:DAYLIGHT
BEGIN:STANDARD
TZOFFSETFROM:+0200
TZOFFSETTO:+0100
TZNAME:CET
DTSTART:20181028T010000
END:STANDARD
BEGIN:DAYLIGHT
TZOFFSETFROM:+0100
TZOFFSETTO:+0200
TZNAME:CEST
DTSTART:20190331T010000
END:DAYLIGHT
BEGIN:STANDARD
TZOFFSETFROM:+0200
TZOFFSETTO:+0100
TZNAME:CET
DTSTART:20191027T010000
END:STANDARD
END:VTIMEZONE
BEGIN:VEVENT
DTSTART;TZID=Europe/Brussels:20171014T100000
DTEND;TZID=Europe/Brussels:20171014T163000
DTSTAMP:20260422T175447
CREATED:20171011T142553Z
LAST-MODIFIED:20171011T142553Z
UID:13617-1507975200-1507998600@insas.be
SUMMARY:Rencontre avec Caroline Champetier
DESCRIPTION:Caroline Champetier est directrice de la photographie et réalisatrice. Elle a été l’assistante de William Lubtchansky avant de travailler avec de nombreux réalisateurs comme Jean-Luc Godard\, Jacques Doillon\, Philippe Garrel\, Xavier Beauvois\, Leos Carax ou Amos Gitaï.\nCette rencontre publique est l’occasion d’un échange autour de son travail. \nLa rencontre sera précédée par la projection de Nuytten / Film réalisé par Caroline Champetier.\nDans les années 80\, Bruno Nuytten était une star de la cinématographie. De Duras à Blier\, de Téchiné à Berri\, il créait des images qui rendent ces films inoubliables. Lui-même a réalisé trois films puis abandonné le cinéma. J’ai toujours voulu comprendre\, sentant confusément la profondeur de cette désertion. De cela et du reste Bruno et moi avons parlé plusieurs jours. \nEntrée gratuite sur réservation (dans la limite des places disponibles)
URL:https://insas.be/evenement/cine-club-caroline-champetier/
LOCATION:Ciné Club de l’INSAS\, Rue Thérésienne\, 8\, Bruxelles\, 1000\, Belgique
CATEGORIES:Ciné-Club
ATTACH;FMTTYPE=image/jpeg:https://insas.be/site/wp-content/uploads/2017/10/012-holy-motors-theredlist.jpg
GEO:50.8399152;4.3613157
X-APPLE-STRUCTURED-LOCATION;VALUE=URI;X-ADDRESS=Ciné Club de l’INSAS Rue Thérésienne 8 Bruxelles 1000 Belgique;X-APPLE-RADIUS=500;X-TITLE=Rue Thérésienne\, 8:geo:4.3613157,50.8399152
END:VEVENT
BEGIN:VEVENT
DTSTART;TZID=Europe/Brussels:20171107T180000
DTEND;TZID=Europe/Brussels:20171107T193000
DTSTAMP:20260422T175447
CREATED:20171012T082153Z
LAST-MODIFIED:20171012T082954Z
UID:13631-1510077600-1510083000@insas.be
SUMMARY:Projection de La Chatte à deux têtes
DESCRIPTION:Pour le troisième Ciné Club de l’INSAS en salle 35mm\, un film de Jacques Nolot. \nDans un cinéma pornographique de Pigalle\, une histoire d’amour alambiquée commence entre la caissière\, le jeune projectionniste et un homme d’une cinquantaine d’années \nFRANCE – 2002 – 87min\nInterdit au moins de 16 ans. \nEntrée gratuite
URL:https://insas.be/evenement/projection-de-chatte-a-deux-tetes/
LOCATION:Ciné Club de l’INSAS\, Rue Thérésienne\, 8\, Bruxelles\, 1000\, Belgique
CATEGORIES:Ciné-Club
ATTACH;FMTTYPE=image/jpeg:https://insas.be/site/wp-content/uploads/2017/10/22339684_1230017217105015_8022837609667047687_o.jpg
GEO:50.8399152;4.3613157
X-APPLE-STRUCTURED-LOCATION;VALUE=URI;X-ADDRESS=Ciné Club de l’INSAS Rue Thérésienne 8 Bruxelles 1000 Belgique;X-APPLE-RADIUS=500;X-TITLE=Rue Thérésienne\, 8:geo:4.3613157,50.8399152
END:VEVENT
BEGIN:VEVENT
DTSTART;TZID=Europe/Brussels:20171121T180000
DTEND;TZID=Europe/Brussels:20171121T200000
DTSTAMP:20260422T175447
CREATED:20171121T075215Z
LAST-MODIFIED:20171121T075215Z
UID:13742-1511287200-1511294400@insas.be
SUMMARY:Projection Des oiseaux\, petits et gros
DESCRIPTION:4ème Ciné Club de l’INSAS en salle 35mm\nun film de Pier Paolo Pasolini sorti en 1966 \nUn corbeau qui parle tente d’initier deux voyageurs\, un père et son fils\, aux choses de la vie. Devant leur ignorance\, il leur raconte une histoire authentique qui\, dit-il\, traite d’oiseaux\, petits et gros\, bons et méchants\, et les transforme en moineau et moinillon. \nITALIE – 1966 – 89min \nEntrée gratuite
URL:https://insas.be/evenement/projection-oiseaux-petits-gros/
LOCATION:Ciné Club de l’INSAS\, Rue Thérésienne\, 8\, Bruxelles\, 1000\, Belgique
ATTACH;FMTTYPE=image/jpeg:https://insas.be/site/wp-content/uploads/2017/11/23593460_1259899637450106_5237853969167629708_o.jpg
GEO:50.8399152;4.3613157
X-APPLE-STRUCTURED-LOCATION;VALUE=URI;X-ADDRESS=Ciné Club de l’INSAS Rue Thérésienne 8 Bruxelles 1000 Belgique;X-APPLE-RADIUS=500;X-TITLE=Rue Thérésienne\, 8:geo:4.3613157,50.8399152
END:VEVENT
BEGIN:VEVENT
DTSTART;TZID=Europe/Brussels:20171219T171500
DTEND;TZID=Europe/Brussels:20171219T194500
DTSTAMP:20260422T175447
CREATED:20171027T090918Z
LAST-MODIFIED:20171027T090918Z
UID:13678-1513703700-1513712700@insas.be
SUMMARY:Ciné Karaoké - Les Demoiselles de Rochefort
DESCRIPTION:Avant de partir en vacances et à l’approche de Noël\, le Ciné Club de l’INSAS vous propose un Ciné Karaoké sur Les Demoiselles de Rochefort de Jacques Demy. \nPendant les chansons\, les paroles s’affichent et la salle 35mm de l’INSAS se transforme en karaoké géant ! Révisez le livret et venez faire entendre votre belle voix sur la musique de Michel Legrand. \nDelphine et Solange sont deux jumelles de 25 ans\, ravissantes et spirituelles. Delphine\, la blonde\, donne des leçons de danse et Solange\, la rousse\, des cours de solfège. Elle vivent dans la musique comme d’autres vivent dans la lune et rêvent de rencontrer le grand amour au coin de la rue. Justement des forains arrivent en ville et fréquentent le bar que tient la mère des jumelles. Une grande foire se prépare et un marin rêveur cherche son idéal féminin… \nFRANCE – 1967 – 120min \nEntrée gratuite
URL:https://insas.be/evenement/cine-karaoke-demoiselles-de-rochefort/
LOCATION:Ciné Club de l’INSAS\, Rue Thérésienne\, 8\, Bruxelles\, 1000\, Belgique
CATEGORIES:Ciné-Club
ATTACH;FMTTYPE=image/jpeg:https://insas.be/site/wp-content/uploads/2017/10/22548702_1238731312900272_7196974959300706689_o.jpg
GEO:50.8399152;4.3613157
X-APPLE-STRUCTURED-LOCATION;VALUE=URI;X-ADDRESS=Ciné Club de l’INSAS Rue Thérésienne 8 Bruxelles 1000 Belgique;X-APPLE-RADIUS=500;X-TITLE=Rue Thérésienne\, 8:geo:4.3613157,50.8399152
END:VEVENT
BEGIN:VEVENT
DTSTART;TZID=Europe/Brussels:20180117T180000
DTEND;TZID=Europe/Brussels:20180117T200000
DTSTAMP:20260422T175447
CREATED:20171207T145018Z
LAST-MODIFIED:20171207T145018Z
UID:13810-1516212000-1516219200@insas.be
SUMMARY:Projection de deux films de Boris Lehman (en sa présence)
DESCRIPTION:Pour ouvrir l’année 2018 du Ciné Club de l’INSAS\, nous avons le plaisir de recevoir Boris Lehman pour la projection de deux courts métrages: Symphonie (1979) et Choses qui me rattachent aux êtres (2010). \nExceptionnellement\, la salle 35mm se transforme en salle 16mm pour la projection de ces deux films en 16mm !\nLa projection sera suivie d’une discussion avec Boris Lehman. \nSymphonie (35′):\nL’auteur Romain Schneid raconte devant la caméra l’histoire de sa propre claustrophobie lorsque\, âgé de 12 ans\, caché comme juif pendant l’occupation allemande\, il ne pouvait sortir d’un minuscule appartement. Il raconte et il joue à lui tout seul tous les personnages de son drame. Il invente\, déforme\, imagine une autre fin. Il est à la fois l’auteur\, le narrateur et l’acteur. A-t-il vraiment vécu ce dont il parle ou tout cela n’a-t-il existé que dans sa tête ? Sommes-nous en face d’un témoignage ou bien d’un délire ? \nChoses qui me rattachent aux êtres (15′):\nJe montre à la caméra quelques objets de mon quotidien (qui sont aussi des allégories) ayant appartenu à d’autres que j’ai aimés ou côtoyés et je conclus : “Je suis la somme de tout ce que les autres m’ont donné”. \nEntrée gratuite
URL:https://insas.be/evenement/projection-de-deux-films-de-boris-lehman/
LOCATION:Ciné Club de l’INSAS\, Rue Thérésienne\, 8\, Bruxelles\, 1000\, Belgique
CATEGORIES:Ciné-Club
ATTACH;FMTTYPE=image/jpeg:https://insas.be/site/wp-content/uploads/2017/12/24312786_1278772165562853_2652583082188533284_n.jpg
GEO:50.8399152;4.3613157
X-APPLE-STRUCTURED-LOCATION;VALUE=URI;X-ADDRESS=Ciné Club de l’INSAS Rue Thérésienne 8 Bruxelles 1000 Belgique;X-APPLE-RADIUS=500;X-TITLE=Rue Thérésienne\, 8:geo:4.3613157,50.8399152
END:VEVENT
BEGIN:VEVENT
DTSTART;TZID=Europe/Brussels:20180130T180000
DTEND;TZID=Europe/Brussels:20180130T194500
DTSTAMP:20260422T175447
CREATED:20180118T144020Z
LAST-MODIFIED:20180118T144020Z
UID:13844-1517335200-1517341500@insas.be
SUMMARY:Projection Toute une nuit - Chantal Akerman
DESCRIPTION:Toute une nuit – Chantal Akerman \nDans une ville\, par une nuit d’été orageuse\, hommes\, femmes et enfants se laissent emporter par l’excès de leurs sentiments. \n“A reconsidérer aujourd’hui Toute une nuit\, il est patent que ce film léger\, enlevé et peu cher\, réalisé dans l’urgence est la réussite la plus libre de Chantal Akerman\, ainsi que la station centrale de son parcours. Sans rien récuser de ses principes de base\, que sont frontalité\, plans fixes\, absence de climax\, elle parle de gestuelle amoureuse en fragmentant son récit\, rejoignant les vues de Barthes sur le discours cinq ans auparavant. Ces corps\, Chantal Akerman n’a jamais rechigné à les filmer\, nus ou non\, mais en préférant cantonner au hors-champ l’acte sexuel. Il en sera de même dans Toute une nuit où\, si le désir affleure de toutes parts\, c’est essentiellement pour mener un magnifique ballet des étreintes dans un Bruxelles strié de bruissements\, chansons et coups de foudre. Alors\, effectivement\, Toute une nuit inocule sa fièvre\, pousse à l’envie de sortir\, d’embrasser la nuit et des inconnu(e)s\, de se repasser des compils de variété italienne\, de s’enivrer des spectacles de Pina Bausch.”\nLes Inrocks – Bertrand Loutte – Mai 1999 \nPhotographie de Caroline Champetier\nProduit par Marilyn Watelet \nDCP version restaurée par CINEMATEK – 99′ – BE – 1982 \nEntrée gratuite
URL:https://insas.be/evenement/projection-toute-nuit-chantal-akerman/
LOCATION:Ciné Club de l’INSAS\, Rue Thérésienne\, 8\, Bruxelles\, 1000\, Belgique
CATEGORIES:Ciné-Club
ATTACH;FMTTYPE=image/jpeg:https://insas.be/site/wp-content/uploads/2018/01/26910990_1312722488834487_7815626752455132899_o.jpg
GEO:50.8399152;4.3613157
X-APPLE-STRUCTURED-LOCATION;VALUE=URI;X-ADDRESS=Ciné Club de l’INSAS Rue Thérésienne 8 Bruxelles 1000 Belgique;X-APPLE-RADIUS=500;X-TITLE=Rue Thérésienne\, 8:geo:4.3613157,50.8399152
END:VEVENT
BEGIN:VEVENT
DTSTART;TZID=Europe/Brussels:20180206T180000
DTEND;TZID=Europe/Brussels:20180206T210000
DTSTAMP:20260422T175447
CREATED:20180118T144859Z
LAST-MODIFIED:20180202T105248Z
UID:13846-1517940000-1517950800@insas.be
SUMMARY:Projection et rencontre - Silence Radio - Valéry Rosier
DESCRIPTION:Pour poursuivre ce beau début d’année 2018\, le Ciné Club de l’INSAS a le plaisir de recevoir Valéry Rosier pour la projection de Silence Radio.\nLa projection sera suivie d’une discussion avec le réalisateur. \nLa Picardie. La Picardie rurale. Des gens qui ne parlent parfois presque plus qu’à eux-mêmes. Des gens oubliés\, en marge de la société. Les gens du silence. Certains d’entre eux s’accrochent à la vie\, aux autres. Ils écoutent Radio PUISALEINE\, une radio régionale. A travers elle\, ils se parlent\, se tiennent compagnie\, échangent\, rient\, chantent\, se replongent dans leur passé. Portrait d’une radio qui fait reculer l’exclusion et la solitude. \nDCP – 52′ – FR BE – 2013 \nMention du Jury au DOK Leipzig\nFIPA d’Or\, Prix Mitrani et Prix Télérama au FIPA 2013 \nEntrée gratuite
URL:https://insas.be/evenement/projection-silence-radio-valery-rosier-presence/
LOCATION:Ciné Club de l’INSAS\, Rue Thérésienne\, 8\, Bruxelles\, 1000\, Belgique
CATEGORIES:Ciné-Club
ATTACH;FMTTYPE=image/jpeg:https://insas.be/site/wp-content/uploads/2018/01/26756288_1307144589392277_8990802274022365894_o.jpg
GEO:50.8399152;4.3613157
X-APPLE-STRUCTURED-LOCATION;VALUE=URI;X-ADDRESS=Ciné Club de l’INSAS Rue Thérésienne 8 Bruxelles 1000 Belgique;X-APPLE-RADIUS=500;X-TITLE=Rue Thérésienne\, 8:geo:4.3613157,50.8399152
END:VEVENT
BEGIN:VEVENT
DTSTART;TZID=Europe/Brussels:20180212T160000
DTEND;TZID=Europe/Brussels:20180212T180000
DTSTAMP:20260422T175447
CREATED:20180202T132906Z
LAST-MODIFIED:20180202T132906Z
UID:13883-1518451200-1518458400@insas.be
SUMMARY:Projection et rencontre - Ce qu'il restera de nous  Vincent Macaigne
DESCRIPTION:Une histoire tragique\, celle de deux frères qui font face à la mort de leur père. L’un a été aimé et l’autre injustement délaissé par le père qui ne lui laisse rien. Le favori\, celui qui en a le moins besoin et qui est le plus désintéressé par l’argent hérite de tout. \nVincent Macaigne est acteur\, metteur en scène de théâtre\, et réalisateur. Ce qu’il restera de nous est son premier film en tant que réalisateur. Il obtient le Grand Prix au festival international du court-métrage de Clermont-Ferrand en 2012. \nLa projection sera suivie d’un échange avec Vincent Macaigne. \nCe qu’il restera de nous\n2012 – FR – 40′ \nFilmographie sélective en tant que réalisateur\n(2011) Ce qu’il restera de nous\n(2017) Pour le réconfort \nFilmographie sélective en tant qu’acteur\n(2011) Un monde sans femmes de Guillaume Brac\n(2013) 2 automnes 3 hivers de Sébastien Betbeder\n(2013) La Bataille de Solférino de Justine Triet\n(2013) La Fille du 14 juillet d’Antonin Peretjatko\n(2013) Tonnerre de Guillaume Brac\n(2015) Les Deux amis de Louis Garrel\n(2016) La Loi de la jungle d’Antonin Peretjatko\n(2018) Chien de Samuel Benchetrit \nVincent Macaigne sera également présent le 12/02 à 19h au Cinema Galeries pour l’avant-première nationale de son long-métrage\, Pour le réconfort.\n(30 places gratuites pour les étudiants de l’INSAS\, sans réservation et sur présentation de la carte étudiant)
URL:https://insas.be/evenement/projection-rencontre-quil-restera-de-vincent-macaigne/
LOCATION:Ciné Club de l’INSAS\, Rue Thérésienne\, 8\, Bruxelles\, 1000\, Belgique
CATEGORIES:Ciné-Club
ATTACH;FMTTYPE=image/jpeg:https://insas.be/site/wp-content/uploads/2018/02/26991868_1321376754635727_151364009697370388_n.jpg
GEO:50.8399152;4.3613157
X-APPLE-STRUCTURED-LOCATION;VALUE=URI;X-ADDRESS=Ciné Club de l’INSAS Rue Thérésienne 8 Bruxelles 1000 Belgique;X-APPLE-RADIUS=500;X-TITLE=Rue Thérésienne\, 8:geo:4.3613157,50.8399152
END:VEVENT
BEGIN:VEVENT
DTSTART;TZID=Europe/Brussels:20180303T100000
DTEND;TZID=Europe/Brussels:20180303T153000
DTSTAMP:20260422T175447
CREATED:20180222T105545Z
LAST-MODIFIED:20180222T110320Z
UID:13965-1520071200-1520091000@insas.be
SUMMARY:Projection et rencontre - Tenir la distance - Yann Dedet
DESCRIPTION:Yann Dedet est monteur et réalisateur. Il a travaillé avec de nombreux réalisateurs comme François Truffaut\, Philippe Garrel\, Maurice Pialat ou Jean-François Stévenin. \nCette rencontre publique est l’occasion d’un échange autour de son travail. \nLa rencontre sera précédée par la projection de Tenir la distance réalisé par Katharina Wartena. \nC’est avec Yann Dedet (…) que le Belge Joachim Lafosse a choisi de monter son cinquième film\, L’Économie du couple\, chronique d’un divorce et de ses répercussions affectives et économiques sur le couple et ses enfants. Monteuse depuis 1995\, Katarina Warthena donne à voir le cœur de ce processus\, traversé par les intuitions d’un monteur très expérimenté et d’un auteur plus jeune mais dont le scénario\, on le comprend\, est nourri d’une expérience intime de la séparation. Charlotte Garson \nFilmographie sélective en tant que monteur:\n1973 : La Nuit américaine de François Truffaut\n1978 : Passe-montagne de Jean-François Stévenin\n1987 : Sous le soleil de Satan de Maurice Pialat\n1998 : L’Ennui de Cédric Kahn\n2011 : Polisse (comontage) de Maïwen Le Besco\n2013 : La Jalousie de Philippe Garrel\n2016 : Dans la forêt de Gilles Marchand \nEntrée gratuite
URL:https://insas.be/evenement/projection-rencontre-tenir-distance-yann-dedet/
LOCATION:Ciné Club de l’INSAS\, Rue Thérésienne\, 8\, Bruxelles\, 1000\, Belgique
CATEGORIES:Ciné-Club
ATTACH;FMTTYPE=image/jpeg:https://insas.be/site/wp-content/uploads/2018/02/27021853_1318559451584124_2834028674045074232_o.jpg
GEO:50.8399152;4.3613157
X-APPLE-STRUCTURED-LOCATION;VALUE=URI;X-ADDRESS=Ciné Club de l’INSAS Rue Thérésienne 8 Bruxelles 1000 Belgique;X-APPLE-RADIUS=500;X-TITLE=Rue Thérésienne\, 8:geo:4.3613157,50.8399152
END:VEVENT
BEGIN:VEVENT
DTSTART;TZID=Europe/Brussels:20180327T180000
DTEND;TZID=Europe/Brussels:20180327T194500
DTSTAMP:20260422T175447
CREATED:20180222T110225Z
LAST-MODIFIED:20180222T110226Z
UID:13967-1522173600-1522179900@insas.be
SUMMARY:Projection et rencontre - La place de l'homme - Coline Grando
DESCRIPTION:Des hommes de 20 à 40 ans\, confrontés à une grossesse non prévue et le plus souvent interrompue\, dévoilent leurs ressentis et réflexions autour de cet événement. À travers ces récits de vie\, c’est la place de l’homme dans les rapports femmes/hommes que questionne la réalisatrice Coline Grando. \nLa projection sera suivie d’une discussion avec la réalisatrice. \n60′ – BE – 2017 – DCP \nEntrée gratuite
URL:https://insas.be/evenement/projection-rencontre-place-de-lhomme-coline-grando/
LOCATION:Ciné Club de l’INSAS\, Rue Thérésienne\, 8\, Bruxelles\, 1000\, Belgique
CATEGORIES:Ciné-Club
ATTACH;FMTTYPE=image/jpeg:https://insas.be/site/wp-content/uploads/2018/02/27982675_1339446962828706_843581149820443275_o.jpg
GEO:50.8399152;4.3613157
X-APPLE-STRUCTURED-LOCATION;VALUE=URI;X-ADDRESS=Ciné Club de l’INSAS Rue Thérésienne 8 Bruxelles 1000 Belgique;X-APPLE-RADIUS=500;X-TITLE=Rue Thérésienne\, 8:geo:4.3613157,50.8399152
END:VEVENT
BEGIN:VEVENT
DTSTART;TZID=Europe/Brussels:20180417T180000
DTEND;TZID=Europe/Brussels:20180417T194500
DTSTAMP:20260422T175447
CREATED:20180329T135912Z
LAST-MODIFIED:20180329T135912Z
UID:14154-1523988000-1523994300@insas.be
SUMMARY:Projection et rencontre - Atentamente - Camila Rodríguez Triana
DESCRIPTION:Dans le huis clos d’une maison de retraite\, le quotidien des pensionnaires rythmé par le banal rituel du personnel\, une télévision qui déverse ses telenovelas et les ateliers récréatifs. Émerge de ce néant le désir que Libardo et Alba éprouvent l’un pour l’autre. Une ode à la vie où les sentiments les plus forts (solitude\, abandon\, amour\, mort) y sont magnifiquement mis en scène. \nLa projection sera suivie d’une discussion avec la réalisatrice. \n80′ – Colombie – 2016 – DCP
URL:https://insas.be/evenement/projection-rencontre-atentamente-camila-rodriguez-triana/
LOCATION:Ciné Club de l’INSAS\, Rue Thérésienne\, 8\, Bruxelles\, 1000\, Belgique
CATEGORIES:Ciné-Club
ATTACH;FMTTYPE=image/jpeg:https://insas.be/site/wp-content/uploads/2018/03/29101839_1361146103992125_3468923893887008768_n.jpg
GEO:50.8399152;4.3613157
X-APPLE-STRUCTURED-LOCATION;VALUE=URI;X-ADDRESS=Ciné Club de l’INSAS Rue Thérésienne 8 Bruxelles 1000 Belgique;X-APPLE-RADIUS=500;X-TITLE=Rue Thérésienne\, 8:geo:4.3613157,50.8399152
END:VEVENT
BEGIN:VEVENT
DTSTART;TZID=Europe/Brussels:20180421T103000
DTEND;TZID=Europe/Brussels:20180421T160000
DTSTAMP:20260422T175447
CREATED:20180329T140501Z
LAST-MODIFIED:20180329T140501Z
UID:14156-1524306600-1524326400@insas.be
SUMMARY:Projection et rencontre - Timbuktu -  Philippe Welsh
DESCRIPTION:Philippe Welsh est chef-opérateur du son\, il a notamment travaillé avec Tony Gatlif\, Abderrahmane Sissako et Edgar Reitz. \nCette rencontre publique est l’occasion d’un échange autour de son travail. \nLa rencontre sera précédée par la projection de Timbuktu réalisé par Abderrahmane Sissako (Cannes 2014 – sélection officielle)\n……………………..……………………..……………………..…………………..\nFilmographie sélective:\n2004 : Exils de Tony Gatlif\n2010 : Liberté de Tony Gatlif\n2011 : Women Are Heroes de JR\n2013 : Heimat d’Edgar Reitz\n2014 : Geronimo de Tony Gatlif\n2014 : Timbuktu d’Abderrahmane Sissako pour lequel il a obtenu le César du meilleur son.\n……………………..……………………..……………………..………………….. \nBuffet participatif à la KFT’ de l’INSAS à partir de 12h30.
URL:https://insas.be/evenement/projection-rencontre-timbuktu-philippe-welsh/
LOCATION:Ciné Club de l’INSAS\, Rue Thérésienne\, 8\, Bruxelles\, 1000\, Belgique
CATEGORIES:Ciné-Club
ATTACH;FMTTYPE=image/jpeg:https://insas.be/site/wp-content/uploads/2018/03/29355093_1378721108901291_4749753214844658768_o.jpg
GEO:50.8399152;4.3613157
X-APPLE-STRUCTURED-LOCATION;VALUE=URI;X-ADDRESS=Ciné Club de l’INSAS Rue Thérésienne 8 Bruxelles 1000 Belgique;X-APPLE-RADIUS=500;X-TITLE=Rue Thérésienne\, 8:geo:4.3613157,50.8399152
END:VEVENT
BEGIN:VEVENT
DTSTART;TZID=Europe/Brussels:20190316T110000
DTEND;TZID=Europe/Brussels:20190316T170000
DTSTAMP:20260422T175447
CREATED:20190306T111139Z
LAST-MODIFIED:20190311T125300Z
UID:15274-1552734000-1552755600@insas.be
SUMMARY:Rencontre avec Dominique Auvray
DESCRIPTION:Monteuse française\, Dominique Auvray a commencé sa carrière avec Barbet Schroeder et Marguerite Duras. Par la suite elle a travaillé avec Claire Denis\, Benoît Jacquot\, Vincent Dieutre\, Bertrand Bonello\, Pedro Costa\, Wang Bing. Cette rencontre publique est l’occasion d’un échange autour de son travail. \nRencontre précédée de la projection du film Le Camion de Marguerite Duras
URL:https://insas.be/evenement/rencontre-avec-dominique-auvray/
LOCATION:Ciné Club de l’INSAS\, Rue Thérésienne\, 8\, Bruxelles\, 1000\, Belgique
CATEGORIES:Ciné-Club
ATTACH;FMTTYPE=image/jpeg:https://insas.be/site/wp-content/uploads/2019/03/auvray.jpg
GEO:50.8399152;4.3613157
X-APPLE-STRUCTURED-LOCATION;VALUE=URI;X-ADDRESS=Ciné Club de l’INSAS Rue Thérésienne 8 Bruxelles 1000 Belgique;X-APPLE-RADIUS=500;X-TITLE=Rue Thérésienne\, 8:geo:4.3613157,50.8399152
END:VEVENT
BEGIN:VEVENT
DTSTART;TZID=Europe/Brussels:20190326T180000
DTEND;TZID=Europe/Brussels:20190326T200000
DTSTAMP:20260422T175447
CREATED:20190306T111618Z
LAST-MODIFIED:20190306T111618Z
UID:15280-1553623200-1553630400@insas.be
SUMMARY:Projection de Cours\, Lola\, cours de Tom Tykwer
DESCRIPTION:Pour éviter qu’il arrive le pire à son petit copain\, Lola ne dispose que de 20 minutes pour réunir la somme de 100.000 marks. Loin du thriller hollywoodien\, Tom Tykwer exploite ici des codes narratifs jusqu’alors propre aux jeux vidéo\, sans pour autant oublier le cinéma\, et signe une sorte de Bonnie and Clyde moderne\, qui marque le passage au XXIème siècle. \nProjection organisée dans le cadre du Offscreen Film Festival
URL:https://insas.be/evenement/projection-de-cours-lola-cours-de-tom-tykwer/
LOCATION:Ciné Club de l’INSAS\, Rue Thérésienne\, 8\, Bruxelles\, 1000\, Belgique
CATEGORIES:Ciné-Club
ATTACH;FMTTYPE=image/jpeg:https://insas.be/site/wp-content/uploads/2019/03/53760984_1813848875388510_7948129928082358272_o.jpg
GEO:50.8399152;4.3613157
X-APPLE-STRUCTURED-LOCATION;VALUE=URI;X-ADDRESS=Ciné Club de l’INSAS Rue Thérésienne 8 Bruxelles 1000 Belgique;X-APPLE-RADIUS=500;X-TITLE=Rue Thérésienne\, 8:geo:4.3613157,50.8399152
END:VEVENT
END:VCALENDAR