BEGIN:VCALENDAR
VERSION:2.0
PRODID:-//INSAS - ECPv6.0.4//NONSGML v1.0//EN
CALSCALE:GREGORIAN
METHOD:PUBLISH
X-ORIGINAL-URL:https://insas.be
X-WR-CALDESC:évènements pour INSAS
REFRESH-INTERVAL;VALUE=DURATION:PT1H
X-Robots-Tag:noindex
X-PUBLISHED-TTL:PT1H
BEGIN:VTIMEZONE
TZID:Europe/Brussels
BEGIN:DAYLIGHT
TZOFFSETFROM:+0100
TZOFFSETTO:+0200
TZNAME:CEST
DTSTART:20140330T010000
END:DAYLIGHT
BEGIN:STANDARD
TZOFFSETFROM:+0200
TZOFFSETTO:+0100
TZNAME:CET
DTSTART:20141026T010000
END:STANDARD
BEGIN:DAYLIGHT
TZOFFSETFROM:+0100
TZOFFSETTO:+0200
TZNAME:CEST
DTSTART:20150329T010000
END:DAYLIGHT
BEGIN:STANDARD
TZOFFSETFROM:+0200
TZOFFSETTO:+0100
TZNAME:CET
DTSTART:20151025T010000
END:STANDARD
BEGIN:DAYLIGHT
TZOFFSETFROM:+0100
TZOFFSETTO:+0200
TZNAME:CEST
DTSTART:20160327T010000
END:DAYLIGHT
BEGIN:STANDARD
TZOFFSETFROM:+0200
TZOFFSETTO:+0100
TZNAME:CET
DTSTART:20161030T010000
END:STANDARD
BEGIN:DAYLIGHT
TZOFFSETFROM:+0100
TZOFFSETTO:+0200
TZNAME:CEST
DTSTART:20170326T010000
END:DAYLIGHT
BEGIN:STANDARD
TZOFFSETFROM:+0200
TZOFFSETTO:+0100
TZNAME:CET
DTSTART:20171029T010000
END:STANDARD
BEGIN:DAYLIGHT
TZOFFSETFROM:+0100
TZOFFSETTO:+0200
TZNAME:CEST
DTSTART:20180325T010000
END:DAYLIGHT
BEGIN:STANDARD
TZOFFSETFROM:+0200
TZOFFSETTO:+0100
TZNAME:CET
DTSTART:20181028T010000
END:STANDARD
BEGIN:DAYLIGHT
TZOFFSETFROM:+0100
TZOFFSETTO:+0200
TZNAME:CEST
DTSTART:20190331T010000
END:DAYLIGHT
BEGIN:STANDARD
TZOFFSETFROM:+0200
TZOFFSETTO:+0100
TZNAME:CET
DTSTART:20191027T010000
END:STANDARD
END:VTIMEZONE
BEGIN:VEVENT
DTSTART;TZID=Europe/Brussels:20191129T170000
DTEND;TZID=Europe/Brussels:20191129T190000
DTSTAMP:20260425T020433
CREATED:20191119T141120Z
LAST-MODIFIED:20191121T082656Z
UID:16426-1575046800-1575054000@insas.be
SUMMARY:EUROPALIA ROMANIA #1 - Conférence sur le cinéma roumain par Dominique Nasta
DESCRIPTION:L’INSAS accueillera le 29 novembre à la salle 35mm Dominique Nasta\, professeure à l’ULB\, pour sa conférence sur le cinéma roumain: \nTout ce que vous avez toujours voulu savoir sur le cinéma roumain (sans oser le demander) \nAlors qu’il continue à remporter\, depuis une quinzaine d’années\, des prix prestigieux dans la plupart des festivals de cinéma de par le monde\, l’essor du cinéma roumain est souvent présenté comme un phénomène récent\, né au tournant du 21ème siècle. La nouvelle vague du cinéma roumain n’a pourtant pas surgi de nulle part\, elle découle d’une tradition\, se revendique de plusieurs prédécesseurs et s’inscrit dans la continuité de certains thèmes et courants stylistiques aussi bien roumains que plus largement européens. \nLa conférence tentera donc de dégager\, à l’aide de nombreux exemples\, les principales étapes de ce parcours historique et esthétique qui s’étend sur pratiquement un siècle de cinéma. \nDominique Nasta est professeure d’Etudes cinématographiques à l’ULB et au Conservatoire de Mons. Elle a été professeure invitée aux universités de Montréal\, Strasbourg et Buenos Aires et est l’auteure de nombreuses publications sur les cinémas d’Europe de l’Est\,  la Musique au cinéma et le Mélodrame filmique. En 2013 elle a publié le premier ouvrage en anglais consacré au cinéma roumain des origines à l’époque contemporaine: Contemporary Romanian Cinema : The History of an Unexpected Miracle (Columbia Univ. Press). \n  \nEntrée libre – bienvenue à tou.te.s ! \n  \n\nEUROPALIA ROMANIA #2  I  30 novembre    Masterclass du réalisateur Marius Olteanu – INSAS site Thérésienne
URL:https://insas.be/evenement/europalia-romania-1-conference-sur-le-cinema-roumain-par-dominique-nasta/
LOCATION:INSAS – Département Cinéma\, Rue Thérésienne 8\, Bruxelles\, 1000\, Belgium
CATEGORIES:Conférence
ATTACH;FMTTYPE=image/png:https://insas.be/site/wp-content/uploads/2019/11/Europalia-2019-1-v4.png
GEO:50.8399152;4.3613157
X-APPLE-STRUCTURED-LOCATION;VALUE=URI;X-ADDRESS=INSAS – Département Cinéma Rue Thérésienne 8 Bruxelles 1000 Belgium;X-APPLE-RADIUS=500;X-TITLE=Rue Thérésienne 8:geo:4.3613157,50.8399152
END:VEVENT
BEGIN:VEVENT
DTSTART;TZID=Europe/Brussels:20170427T183000
DTEND;TZID=Europe/Brussels:20170427T200000
DTSTAMP:20260425T020433
CREATED:20170410T133500Z
LAST-MODIFIED:20170410T133500Z
UID:13291-1493317800-1493323200@insas.be
SUMMARY:Rencontre avec Cédric Gerbehaye\, photographe
DESCRIPTION:Pour poursuivre un cycle annuel de rencontres avec des photographes professionnels tels que Sébastien Van Malleghem\, Hugues de Wurstemberger et Lara Gasparotto\, une nouvelle conférence est organisée ce jeudi 27 avril à 18h30 à l’INSAS (salle 35 mm) avec le photographe Cédric Gerbehaye. \nNé en 1977 en Belgique\, journaliste de formation\, Cédric Gerbehaye vit à Bruxelles.\nAprès avoir travaillé au Moyen-Orient\, il se rend régulièrement à partir de 2007 photographier en République démocratique du Congo. Il entre également cette année là à l’agence Vu. La série qui le fera connaitre\, Congo in Limbo\, fera l’objet d’un livre\, de nombreuses expositions et reçoit sept distinctions internationales dont un World Press Photo. S’en suivra la série Land of Cush sur le Sud Soudan\, soutenue par la Fondation Magnum. Elle reçoit le prix SCAM en 2012 et est également publiée en 2013. Cette même année\, il est invité à photographier la ville de Sète et publie son 3ème livre à cette occasion. Parallèlement Cédric Gerbehaye débute en 2012 la série D’entre Eux\, publiée en 2015 et entièrement consacrée à la Belgique\, où il explore ses racines et questionne notre place dans une monde traversé par les questions identitaires. \nEntrée libre
URL:https://insas.be/evenement/rencontre-cedric-gerbehaye-photographe/
LOCATION:INSAS – Département Cinéma\, Rue Thérésienne 8\, Bruxelles\, 1000\, Belgium
CATEGORIES:Conférence
ATTACH;FMTTYPE=image/jpeg:https://insas.be/site/wp-content/uploads/2017/04/Fly-CG2.jpg
GEO:50.8399152;4.3613157
X-APPLE-STRUCTURED-LOCATION;VALUE=URI;X-ADDRESS=INSAS – Département Cinéma Rue Thérésienne 8 Bruxelles 1000 Belgium;X-APPLE-RADIUS=500;X-TITLE=Rue Thérésienne 8:geo:4.3613157,50.8399152
END:VEVENT
BEGIN:VEVENT
DTSTART;TZID=Europe/Brussels:20150305T190000
DTEND;TZID=Europe/Brussels:20150305T220000
DTSTAMP:20260425T020433
CREATED:20150212T132935Z
LAST-MODIFIED:20150212T132935Z
UID:11833-1425582000-1425592800@insas.be
SUMMARY:Projection "L'Estate di Giacomo" à l'Istituto Italiano di cultura
DESCRIPTION:Cette séance s’inscrit dans le cycle des projections sur le thème « De la sortie de l’INSAS au 1er long-métrage ». À l’issue de la projection\, un débat sera animé par Rogier Van Eck\, en présence du réalisateur Alessandro Comodin (sorti de l’INSAS en 2008) et de son équipe. \nMerci de bien vouloir réserver via ce lien
URL:https://insas.be/evenement/projection-lestate-di-giacomo-a-listituto-italiano-di-cultura/
LOCATION:Istituto Italiano di cultura di Bruxelles\, 38\, rue de Livourne\, Bruxelles\, 1000\, Belgium
CATEGORIES:Cinéma,Conférence,INSAS
ATTACH;FMTTYPE=image/jpeg:https://insas.be/site/wp-content/uploads/2015/02/Giacomo_SNAPSHOT_0009.jpg
GEO:50.8299596;4.3592646
X-APPLE-STRUCTURED-LOCATION;VALUE=URI;X-ADDRESS=Istituto Italiano di cultura di Bruxelles 38 rue de Livourne Bruxelles 1000 Belgium;X-APPLE-RADIUS=500;X-TITLE=38\, rue de Livourne:geo:4.3592646,50.8299596
END:VEVENT
BEGIN:VEVENT
DTSTART;TZID=Europe/Brussels:20150202T180000
DTEND;TZID=Europe/Brussels:20150202T200000
DTSTAMP:20260425T020433
CREATED:20150112T104359Z
LAST-MODIFIED:20150112T104453Z
UID:11800-1422900000-1422907200@insas.be
SUMMARY:Comment vivent et travaillent les artistes du spectacle dans l'Europe d'aujourd'hui?
DESCRIPTION:
URL:https://insas.be/evenement/comment-vivent-et-travaillent-les-artistes-du-spectacle-dans-leurope-daujourdhui/
LOCATION:INSAS – Département Cinéma\, Rue Thérésienne 8\, Bruxelles\, 1000\, Belgium
CATEGORIES:Conférence
ORGANIZER;CN="ARTes":MAILTO:info@artes-bxl.eu
GEO:50.8399152;4.3613157
X-APPLE-STRUCTURED-LOCATION;VALUE=URI;X-ADDRESS=INSAS – Département Cinéma Rue Thérésienne 8 Bruxelles 1000 Belgium;X-APPLE-RADIUS=500;X-TITLE=Rue Thérésienne 8:geo:4.3613157,50.8399152
END:VEVENT
BEGIN:VEVENT
DTSTART;TZID=Europe/Brussels:20140317T180000
DTEND;TZID=Europe/Brussels:20140317T210000
DTSTAMP:20260425T020433
CREATED:20140312T124438Z
LAST-MODIFIED:20140312T135617Z
UID:11269-1395079200-1395090000@insas.be
SUMMARY:Conférence ART.es: Stefan Kaegi
DESCRIPTION:Stefan Kaegi\, Membre du collectif berlinois Rimini Protokoll \n \nRimini Protokoll regroupe sous son label: Helgard Haug\, Stefan Kaegi et Daniel Wetzel. Au début des années 2000\, ce trio de mise en scène construit son travail à partir de situations existantes qui deviennent les protagonistes d’un «mouvement de la réalité». Leur pratique théâtrale questionne la représentation tant au niveau du rapport au spectateur\, qu’au niveau de la confrontation subtile entre réalité et fiction. des projets tels que 100% berlin ou lagos business angels présenté au Kunstenfestivaldesarts en 2012\, témoignent de cette rigueur et cohérence de protocole. \nAuditoire Léon Stynen\n21 abbaye de La Cambre
URL:https://insas.be/evenement/conference-art-es-stefan-kaegi/
LOCATION:La Cambre\, Abbaye de La Cambre 21\, Bruxelles\, 1000\, Belgium
CATEGORIES:Conférence
ORGANIZER;CN="ARTes":MAILTO:info@artes-bxl.eu
GEO:50.8178008;4.3751015
X-APPLE-STRUCTURED-LOCATION;VALUE=URI;X-ADDRESS=La Cambre Abbaye de La Cambre 21 Bruxelles 1000 Belgium;X-APPLE-RADIUS=500;X-TITLE=Abbaye de La Cambre 21:geo:4.3751015,50.8178008
END:VEVENT
BEGIN:VEVENT
DTSTART;TZID=Europe/Brussels:20140227T153000
DTEND;TZID=Europe/Brussels:20140227T173000
DTSTAMP:20260425T020433
CREATED:20140220T105231Z
LAST-MODIFIED:20140220T105231Z
UID:11151-1393515000-1393522200@insas.be
SUMMARY:Les protections auditives\, une alternative ? - Daniel Léon
DESCRIPTION:Conférence. Les bouchons d’oreille sont devenus un objet commun\, un accessoire qui accompagne aujourd’hui une partie importante des amateurs de musique amplifiée et de divertissement sonore. Ces bouchons sont pourtant mal connus et souvent mal utilisés. Sont-ils une protection efficace? Peuvent-ils être considérés comme la solution définitive? Daniel LÉON\, pro- fesseur à l’INSAS\, aborde la question de l’analyse de leurs performances et les paradoxes de leur utilisation. \nJeudi 27.02 – 15h30 Botanique  \nDans le cadre de La semaine du Son. \nwww.lasemaineduson.be\nDes concerts\, des ateliers\, des animations\, des conférences\, des performance\, un rallye sonore\, des siestes musicales… 0ù ? à Flagey\, au Botanique\, à PointCulure Bxl\, au KultuuKaffee\, à l’Espace Senghor\, aux Riches-Claires. et au MIM. \nToutes les activités sont gratuites\, mais il est prudent de réserver\nRéservations : reservations@lasemaineduson.be
URL:https://insas.be/evenement/les-protections-auditives-une-alternative-daniel-leon/
LOCATION:Le Botanique\, Rue Royale 236\, Bruxelles\, 1210\, Belgium
CATEGORIES:Conférence
ORGANIZER;CN="La%20Semaine%20du%20Son":MAILTO:reservations@lasemaineduson.be
GEO:50.854616;4.3661481
X-APPLE-STRUCTURED-LOCATION;VALUE=URI;X-ADDRESS=Le Botanique Rue Royale 236 Bruxelles 1210 Belgium;X-APPLE-RADIUS=500;X-TITLE=Rue Royale 236:geo:4.3661481,50.854616
END:VEVENT
BEGIN:VEVENT
DTSTART;TZID=Europe/Brussels:20140227T090000
DTEND;TZID=Europe/Brussels:20140227T113000
DTSTAMP:20260425T020433
CREATED:20140220T104920Z
LAST-MODIFIED:20140220T104920Z
UID:11148-1393491600-1393500600@insas.be
SUMMARY:Les excès sonores
DESCRIPTION:Conférences avec Marie-Paule THILL\, Médecin ORL\, Olivier LAMBERT\, Audioprothésiste et Daniel LEON\, Professeur à l’INSAS.  \nC’est à moins de trente ans que de plus en plus de jeunes adultes se découvrent des problèmes auditifs dont l’origine est le plus souvent due à une exposition (momentanée ou répétée) à des puis- sances sonores gigantesques\, et ce\, dans les lieux de spectacle ou de divertisse- ment. Marie-Paule THILL\, médecin ORL\, Olivier LAMBERT\, audiopro- thésiste et Daniel LÉON\, ingénieur du son\, rassemblent leur expérience pour expliquer les mécanismes et l’histoire de ces excès sonores dont les conséquences peuvent se révéler d’une extrême gravité. \nJeudi 27.02 – 09h00 & 10h30 Botanique  \nDans le cadre de La semaine du Son. \nwww.lasemaineduson.be\nDes concerts\, des ateliers\, des animations\, des conférences\, des performance\, un rallye sonore\, des siestes musicales… 0ù ? à Flagey\, au Botanique\, à PointCulure Bxl\, au KultuuKaffee\, à l’Espace Senghor\, aux Riches-Claires. et au MIM. \nToutes les activités sont gratuites\, mais il est prudent de réserver\nRéservations : reservations@lasemaineduson.be
URL:https://insas.be/evenement/les-exces-sonores/
LOCATION:Le Botanique\, Rue Royale 236\, Bruxelles\, 1210\, Belgium
CATEGORIES:Conférence
ORGANIZER;CN="La%20Semaine%20du%20Son":MAILTO:reservations@lasemaineduson.be
GEO:50.854616;4.3661481
X-APPLE-STRUCTURED-LOCATION;VALUE=URI;X-ADDRESS=Le Botanique Rue Royale 236 Bruxelles 1210 Belgium;X-APPLE-RADIUS=500;X-TITLE=Rue Royale 236:geo:4.3661481,50.854616
END:VEVENT
BEGIN:VEVENT
DTSTART;TZID=Europe/Brussels:20140224T140000
DTEND;TZID=Europe/Brussels:20140224T180000
DTSTAMP:20260425T020433
CREATED:20140220T104635Z
LAST-MODIFIED:20140220T104635Z
UID:11146-1393250400-1393264800@insas.be
SUMMARY:Masterclass de Daniel Léon
DESCRIPTION:Enregistrement du concert Conference of the Birds  de Fabrizio Cassol.\nComplet avec possibilité de s’inscrire sur la liste d’attente.  \nSi l’enregistrement personnel est devenu très populaire au travers des milliers de home studios\, il n’en est pas de même pour la prise de son des concerts qui reste un travail délicat où les interactions sont multiples. Daniel LÉON\, professeur à l’INSAS\, entamera cette approche dans le cadre de la carte blanche à Fabrizio Cassol (voir concert ci-dessous) en abordant les questions des inévitables compromis et contraintes liés au spectacle vivant\, dès le sound check de l’après-midi. \nLundi 24.02 – 14h00 Flagey\, Régie Studio 4  \nDans le cadre de La semaine du Son. \nwww.lasemaineduson.be\nDes concerts\, des ateliers\, des animations\, des conférences\, des performance\, un rallye sonore\, des siestes musicales… 0ù ? à Flagey\, au Botanique\, à PointCulure Bxl\, au KultuuKaffee\, à l’Espace Senghor\, aux Riches-Claires. et au MIM. \nToutes les activités sont gratuites\, mais il est prudent de réserver\nRéservations : reservations@lasemaineduson.be
URL:https://insas.be/evenement/masterclass-de-daniel-leon/
LOCATION:Flagey\, Place Sainte Croix\, Ixelles\, 1050\, Belgium
CATEGORIES:Conférence
ORGANIZER;CN="La%20Semaine%20du%20Son":MAILTO:reservations@lasemaineduson.be
END:VEVENT
END:VCALENDAR