BEGIN:VCALENDAR
VERSION:2.0
PRODID:-//INSAS - ECPv6.0.4//NONSGML v1.0//EN
CALSCALE:GREGORIAN
METHOD:PUBLISH
X-WR-CALNAME:INSAS
X-ORIGINAL-URL:https://insas.be
X-WR-CALDESC:évènements pour INSAS
REFRESH-INTERVAL;VALUE=DURATION:PT1H
X-Robots-Tag:noindex
X-PUBLISHED-TTL:PT1H
BEGIN:VTIMEZONE
TZID:Europe/Brussels
BEGIN:DAYLIGHT
TZOFFSETFROM:+0100
TZOFFSETTO:+0200
TZNAME:CEST
DTSTART:20130331T010000
END:DAYLIGHT
BEGIN:STANDARD
TZOFFSETFROM:+0200
TZOFFSETTO:+0100
TZNAME:CET
DTSTART:20131027T010000
END:STANDARD
BEGIN:DAYLIGHT
TZOFFSETFROM:+0100
TZOFFSETTO:+0200
TZNAME:CEST
DTSTART:20140330T010000
END:DAYLIGHT
BEGIN:STANDARD
TZOFFSETFROM:+0200
TZOFFSETTO:+0100
TZNAME:CET
DTSTART:20141026T010000
END:STANDARD
BEGIN:DAYLIGHT
TZOFFSETFROM:+0100
TZOFFSETTO:+0200
TZNAME:CEST
DTSTART:20150329T010000
END:DAYLIGHT
BEGIN:STANDARD
TZOFFSETFROM:+0200
TZOFFSETTO:+0100
TZNAME:CET
DTSTART:20151025T010000
END:STANDARD
BEGIN:DAYLIGHT
TZOFFSETFROM:+0100
TZOFFSETTO:+0200
TZNAME:CEST
DTSTART:20160327T010000
END:DAYLIGHT
BEGIN:STANDARD
TZOFFSETFROM:+0200
TZOFFSETTO:+0100
TZNAME:CET
DTSTART:20161030T010000
END:STANDARD
BEGIN:DAYLIGHT
TZOFFSETFROM:+0100
TZOFFSETTO:+0200
TZNAME:CEST
DTSTART:20170326T010000
END:DAYLIGHT
BEGIN:STANDARD
TZOFFSETFROM:+0200
TZOFFSETTO:+0100
TZNAME:CET
DTSTART:20171029T010000
END:STANDARD
BEGIN:DAYLIGHT
TZOFFSETFROM:+0100
TZOFFSETTO:+0200
TZNAME:CEST
DTSTART:20180325T010000
END:DAYLIGHT
BEGIN:STANDARD
TZOFFSETFROM:+0200
TZOFFSETTO:+0100
TZNAME:CET
DTSTART:20181028T010000
END:STANDARD
BEGIN:DAYLIGHT
TZOFFSETFROM:+0100
TZOFFSETTO:+0200
TZNAME:CEST
DTSTART:20190331T010000
END:DAYLIGHT
BEGIN:STANDARD
TZOFFSETFROM:+0200
TZOFFSETTO:+0100
TZNAME:CET
DTSTART:20191027T010000
END:STANDARD
BEGIN:DAYLIGHT
TZOFFSETFROM:+0100
TZOFFSETTO:+0200
TZNAME:CEST
DTSTART:20200329T010000
END:DAYLIGHT
BEGIN:STANDARD
TZOFFSETFROM:+0200
TZOFFSETTO:+0100
TZNAME:CET
DTSTART:20201025T010000
END:STANDARD
BEGIN:DAYLIGHT
TZOFFSETFROM:+0100
TZOFFSETTO:+0200
TZNAME:CEST
DTSTART:20210328T010000
END:DAYLIGHT
BEGIN:STANDARD
TZOFFSETFROM:+0200
TZOFFSETTO:+0100
TZNAME:CET
DTSTART:20211031T010000
END:STANDARD
BEGIN:DAYLIGHT
TZOFFSETFROM:+0100
TZOFFSETTO:+0200
TZNAME:CEST
DTSTART:20220327T010000
END:DAYLIGHT
BEGIN:STANDARD
TZOFFSETFROM:+0200
TZOFFSETTO:+0100
TZNAME:CET
DTSTART:20221030T010000
END:STANDARD
BEGIN:DAYLIGHT
TZOFFSETFROM:+0100
TZOFFSETTO:+0200
TZNAME:CEST
DTSTART:20230326T010000
END:DAYLIGHT
BEGIN:STANDARD
TZOFFSETFROM:+0200
TZOFFSETTO:+0100
TZNAME:CET
DTSTART:20231029T010000
END:STANDARD
BEGIN:DAYLIGHT
TZOFFSETFROM:+0100
TZOFFSETTO:+0200
TZNAME:CEST
DTSTART:20240331T010000
END:DAYLIGHT
BEGIN:STANDARD
TZOFFSETFROM:+0200
TZOFFSETTO:+0100
TZNAME:CET
DTSTART:20241027T010000
END:STANDARD
BEGIN:DAYLIGHT
TZOFFSETFROM:+0100
TZOFFSETTO:+0200
TZNAME:CEST
DTSTART:20250330T010000
END:DAYLIGHT
BEGIN:STANDARD
TZOFFSETFROM:+0200
TZOFFSETTO:+0100
TZNAME:CET
DTSTART:20251026T010000
END:STANDARD
END:VTIMEZONE
BEGIN:VEVENT
DTSTART;TZID=Europe/Brussels:20250322T093000
DTEND;TZID=Europe/Brussels:20250322T163000
DTSTAMP:20260423T174321
CREATED:20250226T135214Z
LAST-MODIFIED:20250319T163242Z
UID:25736-1742635800-1742661000@insas.be
SUMMARY:Portes Ouvertes 2025 / Audiovisuel – Théâtre – Danse
DESCRIPTION:AUDIOVISUEL – de 9h30 à 16h30\n\n8 Rue Thérésienne – 1000 Bruxelles (métro et bus Porte de Namur)\nPas de parking possible devant l’établissement. Plusieurs parkings payants disponibles dans les zones de Porte de Namur et Trône. \n9h30\, 10h30 et 12h00 – Accueil\nPrésentation générale par la Directrice\, informations sur les épreuves d’admission et le Service social\, suivie de projections de travaux d’étudiant·es \nToute la journée\nRencontres avec l’équipe pédagogique et les étudiant·es par cursus\, découverte des espaces de travail et de la bibliothèque \n  \nTHEATRE – de 14h00 à 17h00\n159 Avenue de la Couronne\, 1050 Bruxelles (bus Rodin\, Delporte) \n14h00 – Accueil Théâtre et Interprétation Dramatique\nPrésentation générale par la Directrice\, informations sur les épreuves d’admission et le Service social\nPrésentation du projet pédagogique \n15h00 – 17h00\nRencontres avec l’équipe pédagogique et les étudiant·es \n  \nDANSE – de 14h30 à 17h00\n159 Avenue de la Couronne\, 1050 Bruxelles (bus Rodin\, Delporte) \n14h30 – Accueil Danse\nPrésentation générale de l’école\, informations sur les épreuves d’admission et le Service social\nPrésentation du projet pédagogique \n15h30 – 17h00\nRencontre avec l’équipe pédagogique \n16h00 – 17h00\nCours Ouvert : Serge Aimé Coulibaly et les étudiant·es en Master 1\n \nLe master Danse et Pratiques Chorégraphiques est organisé en co-diplomation entre l’INSAS \, Charleroi Danse et L’ENSAV – La Cambre.\nLa Cambre organise également ses portes ouvertes le samedi 22 mars. \n  \nPROGRAMME DÉTAILLÉ \nAUDIOVISUEL – 8 rue Thérésienne \n \nTHEATRE ET DANSE – 159 avenue de la Couronne \n \n  \n  \n© Affiche • Jorge Sanchez Romero\n© Photo • Avril Poirier\, Cécili Matureli (Regards Croisés 2024-2025)
URL:https://insas.be/evenement/portes-ouvertes-2025-audiovisuel-theatre-danse/
LOCATION:INSAS\, Rue Thérésienne 8\, Bruxelles\, 1000\, Belgique
CATEGORIES:Cinéma,INSAS,Théâtre
ATTACH;FMTTYPE=image/jpeg:https://insas.be/site/wp-content/uploads/2025/02/BANNER-JPO-2025_INSTAGRAM.jpg
GEO:50.8399152;4.3613157
X-APPLE-STRUCTURED-LOCATION;VALUE=URI;X-ADDRESS=INSAS Rue Thérésienne 8 Bruxelles 1000 Belgique;X-APPLE-RADIUS=500;X-TITLE=Rue Thérésienne 8:geo:4.3613157,50.8399152
END:VEVENT
BEGIN:VEVENT
DTSTART;TZID=Europe/Brussels:20240627T103000
DTEND;TZID=Europe/Brussels:20240627T180000
DTSTAMP:20260423T174321
CREATED:20240619T122532Z
LAST-MODIFIED:20240620T071957Z
UID:24721-1719484200-1719511200@insas.be
SUMMARY:OUTSAS 24 #4 · Projection des Regards Croisés\, Films de Fin d’Études · Master Cinéma
DESCRIPTION:L’INSAS\, l’Atelier de réalisation & Les Amis de l’INSAS ont le plaisir de vous inviter à la projection des Master Cinéma : films documentaires “Regards Croisés” et Films de Fin d’Etudes. L’événement se déroulera au Cinéma Galeries le jeudi 27 juin 2024 à partir de 10h30. \n______________________________________________________ \n10h30 · Regards Croisés\n\n\n \nTeryên\, les envolées – Clara Diet & Bérénice Farges (Grèce) \nDespués de la tormenta Ilega la calma – Lison Besangez & Léa Berghe (Equateur) \n3723 km à vol d’oiseau – Oksana Luyssen & Ysé Auguste-Dormeuil (Grèce) \nJacquie et Claudette – Tom Bonnard et Célia Thibault (France) \nThe deserters – Sofia Cecere & Justine Piquard (Allemagne) \nThe bodies we live in – Mado Berrenger & Lucie Onrubia-Muro (Tchéquie) \nLa neige aux pieds – Soleysa Taleb & Elsa Audevart (Pologne) \n  \n\n\n \nFilms documentaires réalisés dans le cadre du Programme d’échange “Regards Croisés” via lequel les étudiant·e·s tournent un court métrage à l’étranger. \nRÉSERVATIONS\n  \n\n\n \n______________________________________________________ \n14h00 · Films de Fin d’Études\nRides du lion et pattes d’oie – Juliette Léonard \nMa mère dort – Moana Son \nEntre les bêtes – Luchino Paparella \nSoidade – Mathilde Bedrune \nAux confins – Orane Dourte \nFête de famille – Raphaël Venayre \nIl est mort le soleil – Céleste Dollet-Galliot \nSanguine – Capucine Pinaud \nPornatopia – Jérôme Pauly \n\n\n \n  \nLes Films de Fin d’Études sont des courts métrages réalisés par les étudiant·e·s en dernière année de Master. Ces films représentent l’aboutissement de leur formation à l’INSAS et constituent une vitrine personnelle de leur savoir-faire pour leur arrivée dans la profession. \n\n\n \nRÉSERVATIONS\n \n  \nPROGRAMME DÉTAILLÉ\n   Photo : Benoît Lavoine Visuel : Jorge Sanchez Romero
URL:https://insas.be/evenement/outsas-24-4-%c2%b7-projection-des-regards-croises-films-de-fin-detudes-%c2%b7-master-cinema/
LOCATION:Cinéma Galeries\, Galerie de la Reine\, 26\, Bruxelles\, 1000\, Belgique
CATEGORIES:Cinéma
ATTACH;FMTTYPE=image/jpeg:https://insas.be/site/wp-content/uploads/2024/06/BANNER_CIN_OUTSAS_24_INSTAGRAM.jpg
END:VEVENT
BEGIN:VEVENT
DTSTART;TZID=Europe/Brussels:20171221T173000
DTEND;TZID=Europe/Brussels:20171221T193000
DTSTAMP:20260423T174321
CREATED:20171205T133518Z
LAST-MODIFIED:20171207T144820Z
UID:13784-1513877400-1513884600@insas.be
SUMMARY:Fête du court métrage de la FWB\, projection "Les enfants partent à l'aube" de Manon Coubia
DESCRIPTION:Dans le cadre de la fête du court métrage organisée par la Fédération Wallonie-Bruxelles Le jour le plus Court\, sera mis à l’honneur le court-métrage Les enfants partent à l’aube de Manon Coubia. La projection commencera à 17h30 en salle 35 mm. Elle sera suivie d’une rencontre avec l’équipe du film – composée la plupart d’étudiants de l’INSAS. Emmanuelle Gilles-Rousseau Comédienne\, Vincent Nouaille Son\, Hélène Clerc-Denizot Perche\, Thomas Marchand Montage image\, Aline Huber Montage son\, Rita Santin Scripte\, Michael Cinquin Étalonneur – et d’un question / réponse. \nPar la même occasion\, vous pourrez découvrir le film de fin d’études de Manon Coubia “La saison prochaine” (2005).  Le court-métrage fait partie du quatrième volume DVD du coffret “50 Ans – 50 Films” de l’INSAS (qui est disponible à la vente sur cette page). \n Réservations
URL:https://insas.be/evenement/fete-court-metrage-de-fwb-projection-enfants-partent-a-laube-de-manon-coubia/
LOCATION:INSAS – Département Cinéma\, Rue Thérésienne 8\, Bruxelles\, 1000\, Belgium
CATEGORIES:Cinéma,INSAS
ATTACH;FMTTYPE=image/png:https://insas.be/site/wp-content/uploads/2017/12/Affiche-LEP.png
GEO:50.8399152;4.3613157
X-APPLE-STRUCTURED-LOCATION;VALUE=URI;X-ADDRESS=INSAS – Département Cinéma Rue Thérésienne 8 Bruxelles 1000 Belgium;X-APPLE-RADIUS=500;X-TITLE=Rue Thérésienne 8:geo:4.3613157,50.8399152
END:VEVENT
BEGIN:VEVENT
DTSTART;TZID=Europe/Brussels:20160420T190000
DTEND;TZID=Europe/Brussels:20160420T230000
DTSTAMP:20260423T174321
CREATED:20160404T095625Z
LAST-MODIFIED:20160413T150602Z
UID:12666-1461178800-1461193200@insas.be
SUMMARY:Le cinématographe des Frères Lumière a 120 ans
DESCRIPTION:A l’occasion du 120ème anniversaire de la projection des Films Lumière\, \nL’INSAS et les Amis de l’Insas sont heureux de vous inviter à un évènement exceptionnel : le 20 avril prochain\, nous vous ferons découvrir les 10 films de la 1ère projection des Films Lumière\, dans les conditions de projection du Salon Indien\, grâce à l’un des rares cinématographes encore existant au monde. Jean-Pierre Verscheure et Sophie Bruneau vous accompagneront dans cette projection exceptionnelle\, reconstitution aussi fidèle que possible de celle du 28 décembre 1895\, avec la complicité musicale du compositeur Hughes Maréchal. \nPour compléter cet hommage\, les étudiants de B2 Théâtre et Techniques de Communication vous présenteront Eclats de sourire. N’a-t-on pas longtemps cru que l’art comique ne se remettrait pas de la disparition des génies du burlesque qui ont occupé le grand écran ? Venez partager au théâtre un voyage chez les rieurs d’hier et d’aujourd’hui. Cette étude est encadrée par Anne-Marie Loop\, Jo Lacrosse et Patricia Timmermans\, avec l’aide précieuse de Lauriane Couturier et l’aimable participation d’Amid Chakir. \nProgramme de la soirée\n19:00 – Eclats de Sourire\n20:00 – Le Cinématographe\n21:00 – Eclats de sourire\n22:00 – Le Cinématographe
URL:https://insas.be/evenement/cinematographe-freres-lumiere-a-120-ans/
LOCATION:INSAS – Département Théâtre\, Rue Émile Féron 153\, Bruxelles\, 1060
CATEGORIES:Cinéma,Théâtre
ATTACH;FMTTYPE=image/jpeg:https://insas.be/site/wp-content/uploads/2016/04/Insas-20-avril-Résa.jpg
GEO:50.8348664;4.366394
X-APPLE-STRUCTURED-LOCATION;VALUE=URI;X-ADDRESS=INSAS – Département Théâtre Rue Émile Féron 153 Bruxelles 1060;X-APPLE-RADIUS=500;X-TITLE=Rue Émile Féron 153:geo:4.366394,50.8348664
END:VEVENT
BEGIN:VEVENT
DTSTART;TZID=Europe/Brussels:20160224T180000
DTEND;TZID=Europe/Brussels:20160224T200000
DTSTAMP:20260423T174321
CREATED:20160212T092115Z
LAST-MODIFIED:20160219T090629Z
UID:12420-1456336800-1456344000@insas.be
SUMMARY:Projection de "Full of missing links" de Soa Sung-a Yoon
DESCRIPTION:Cette séance s’inscrit dans le cycle des projections sur le thème “De la sortie de l’INSAS au 1er long-métrage”. Après une première séance complète au Centre Culturel Coréen de Bruxelles le 9 décembre dernier\, Les Amis de l’INSAS organisent cette 2ème projection. A cette occasion\, le film de fin d’études de Soa Sung-a Yoon\, Et Dans Mon Coeur J’Emporterai\, sélectionné au Festival de Cannes\, Cinefondation 2008\, sera également projeté. \nSoa Sung-a Yoon part en Corée du Sud à la recherche de son père qu’elle n’a plus revu depuis l’âge de huit ans. En cherchant à comprendre la rupture de ses parents qui l’a arrachée de son pays natal vers la France\, la réalisatrice décrypte les rouages d’une société à travers le prisme de sa propre histoire. D’abord personnelle\, sa quête reflète les préoccupations d’un pays tout entier\, profondément marquée par la séparation.\nLe nombre de places étant limité\, il est vivement conseillé de réserver via ce lien. \nProjection en Salle 35 mm – Entrée gratuite.
URL:https://insas.be/evenement/12420/
LOCATION:INSAS – Département Cinéma\, Rue Thérésienne 8\, Bruxelles\, 1000\, Belgium
CATEGORIES:Cinéma
ATTACH;FMTTYPE=image/jpeg:https://insas.be/site/wp-content/uploads/2015/11/IMG_4775.jpg
GEO:50.8399152;4.3613157
X-APPLE-STRUCTURED-LOCATION;VALUE=URI;X-ADDRESS=INSAS – Département Cinéma Rue Thérésienne 8 Bruxelles 1000 Belgium;X-APPLE-RADIUS=500;X-TITLE=Rue Thérésienne 8:geo:4.3613157,50.8399152
END:VEVENT
BEGIN:VEVENT
DTSTART;TZID=Europe/Brussels:20150305T190000
DTEND;TZID=Europe/Brussels:20150305T220000
DTSTAMP:20260423T174321
CREATED:20150212T132935Z
LAST-MODIFIED:20150212T132935Z
UID:11833-1425582000-1425592800@insas.be
SUMMARY:Projection "L'Estate di Giacomo" à l'Istituto Italiano di cultura
DESCRIPTION:Cette séance s’inscrit dans le cycle des projections sur le thème « De la sortie de l’INSAS au 1er long-métrage ». À l’issue de la projection\, un débat sera animé par Rogier Van Eck\, en présence du réalisateur Alessandro Comodin (sorti de l’INSAS en 2008) et de son équipe. \nMerci de bien vouloir réserver via ce lien
URL:https://insas.be/evenement/projection-lestate-di-giacomo-a-listituto-italiano-di-cultura/
LOCATION:Istituto Italiano di cultura di Bruxelles\, 38\, rue de Livourne\, Bruxelles\, 1000\, Belgium
CATEGORIES:Cinéma,Conférence,INSAS
ATTACH;FMTTYPE=image/jpeg:https://insas.be/site/wp-content/uploads/2015/02/Giacomo_SNAPSHOT_0009.jpg
GEO:50.8299596;4.3592646
X-APPLE-STRUCTURED-LOCATION;VALUE=URI;X-ADDRESS=Istituto Italiano di cultura di Bruxelles 38 rue de Livourne Bruxelles 1000 Belgium;X-APPLE-RADIUS=500;X-TITLE=38\, rue de Livourne:geo:4.3592646,50.8299596
END:VEVENT
BEGIN:VEVENT
DTSTART;TZID=Europe/Brussels:20150207T200000
DTEND;TZID=Europe/Brussels:20150207T200000
DTSTAMP:20260423T174321
CREATED:20150109T104023Z
LAST-MODIFIED:20150109T104023Z
UID:11791-1423339200-1423339200@insas.be
SUMMARY:"En attendant le dégel" nominé aux Magritte
DESCRIPTION:Le court-métrage « En attendant le dégel » de Sarah Hirtt est nominé aux Magritte 2015. Le samedi 7 février\, aura lieu la cérémonie des récompenses du cinéma belge francophone. Le film a déjà été primé à la Cinéfondation à Cannes en 2013 et dans d’autres festivals.
URL:https://insas.be/evenement/en-attendant-le-degel-nomine-aux-magritte/
CATEGORIES:Cinéma
ATTACH;FMTTYPE=image/png:https://insas.be/site/wp-content/uploads/2013/05/attendant.png
END:VEVENT
BEGIN:VEVENT
DTSTART;TZID=Europe/Brussels:20141221T160000
DTEND;TZID=Europe/Brussels:20141221T180000
DTSTAMP:20260423T174321
CREATED:20141209T154616Z
LAST-MODIFIED:20141209T154616Z
UID:11751-1419177600-1419184800@insas.be
SUMMARY:"Monstre" et "Jennah" au Jour le plus court
DESCRIPTION:Dans le cadre du « Jour le plus court » du Centre du Cinéma de la Fédération Wallonie-Bruxelles\, le cinéma Plaza Art de Mons présente Courts d’écoles: un programme de six courts métrages issus de l’IAD\, l’INSAS et La Cambre. \n\n\n\nDimanche 21 décembre à partir de 16h:\n« Monstre » de Delphine Girard (INSAS\, 2014\, 18 min.)\n« Jennah » de Meryem Benm’Barek-Aloïsi (INSAS\, 2014\, 17 min.)
URL:https://insas.be/evenement/monstre-et-jennah-au-jour-le-plus-court/
LOCATION:Cinéma Plaza Art\, Rue de Nimy\, 12\, Mons\, 7000\, Belgium
CATEGORIES:Cinéma
ATTACH;FMTTYPE=image/png:https://insas.be/site/wp-content/uploads/2014/12/téléchargement.png
ORGANIZER;CN="Cin%C3%A9ma%20Plaza%20Art":MAILTO:Info.plaza.art@gmail.com
GEO:50.4553376;3.9534699
X-APPLE-STRUCTURED-LOCATION;VALUE=URI;X-ADDRESS=Cinéma Plaza Art Rue de Nimy 12 Mons 7000 Belgium;X-APPLE-RADIUS=500;X-TITLE=Rue de Nimy\, 12:geo:3.9534699,50.4553376
END:VEVENT
BEGIN:VEVENT
DTSTART;TZID=Europe/Brussels:20141115T103000
DTEND;TZID=Europe/Brussels:20141115T133000
DTSTAMP:20260423T174321
CREATED:20141104T195931Z
LAST-MODIFIED:20141104T195931Z
UID:11711-1416047400-1416058200@insas.be
SUMMARY:Leçon de cinéma : Montage\, mon beau souci
DESCRIPTION:Arrêt sur le montage dans le cinéma documentaire\, en compagnie de Frédéric Fichefet\, monteur\, réalisateur et enseignant en montage notamment à l’école INSAS et de Patrick Taliercio\, réalisateur\, qui animera la rencontre. A l’origine de cette leçon\, l’envie de relayer un constat avancé par nombreux réalisateurs de cinéma documentaire sur l’importance du montage pour l’écriture documentaire et cette phrase que nous a un jour glissée une monteuse avec malice : « quand je veux me reposer\, je travaille sur le montage de films de fiction ». Les réalisateurs de documentaire savent bien en effet qu’à la différence de la fiction\, dont le scénario s’écrit le plus souvent avant le tournage\, l’écriture d’un film documentaire est terriblement mouvante et est amenée à évoluer à l’étape du montage. \nLes exemples concrets\, des extraits de films belges\, nous permettront de mettre en lumière la richesse et la complexité des écritures documentaires\, et nous verrons qu’un bon montage ne peut être un simple travail d’exécutant mais est un processus de création commune basé sur la rencontre et la collaboration entre un réalisateur et un monteur. \nLieu : Cinéma Aventure (Galerie du Centre\, Rue des Fripiers 57\, 1000 Bruxelles)Horaires : samedi 15 novembre – 10h30/13h30Tarif : 4\,5€ / 3\,5€ \nSéance à l’initiative du P’tit Ciné\, organisée au cinéma Aventure dans le cadre du Week-End du Doc. \nLe 15 novembre 2014\, 10H30\nVoir les accès et tarif
URL:https://insas.be/evenement/lecon-de-cinema-montage-mon-beau-souci/
LOCATION:Cinéma Aventure\, Galerie du Centre\, Rue des Fripiers 57\, Bruxelles\, 1000\, Belgium
CATEGORIES:Cinéma
ATTACH;FMTTYPE=image/jpeg:https://insas.be/site/wp-content/uploads/2014/11/bleu-blanc3.jpg
GEO:50.8493405;4.3530199
X-APPLE-STRUCTURED-LOCATION;VALUE=URI;X-ADDRESS=Cinéma Aventure Galerie du Centre Rue des Fripiers 57 Bruxelles 1000 Belgium;X-APPLE-RADIUS=500;X-TITLE=Galerie du Centre\, Rue des Fripiers 57:geo:4.3530199,50.8493405
END:VEVENT
BEGIN:VEVENT
DTSTART;TZID=Europe/Brussels:20141001T200000
DTEND;TZID=Europe/Brussels:20141001T200000
DTSTAMP:20260423T174321
CREATED:20140916T133620Z
LAST-MODIFIED:20140916T142000Z
UID:11608-1412193600-1412193600@insas.be
SUMMARY:Tokyo Anyway de Camille Meynard
DESCRIPTION:Tokyo Anyway\, premier long-métrage de Camille MEYNARD (ancien étudiant de l’INSAS)\, sera projeté le 1er octobre à 20h à BOZAR. En présence de Camille Meynard et des acteurs du film.  Justine\, Armel\, Camille et Félix sont quatre trentenaires qui vivent à Bruxelles. Amis depuis des années\, ils sont beaux\, ils ont une situation\, ils sont vivants. Mais à trente ans\, même le plus petit grains de sable peut enrayer la machine. Le même jour Faustine est remise en cause dans son travail\, Camille tombe enceinte\, Armel perd son père et Félix est appelé à travailler à Tokyo. Il pleut du sable sur Bruxelles.\nLe site officiel du film
URL:https://insas.be/evenement/tokyo-anyway/
LOCATION:Palais des Beaux-Arts – BOZAR\, Rue Ravenstein 23\, Bruxelles\, 1000\, Belgium
CATEGORIES:Cinéma
ATTACH;FMTTYPE=image/jpeg:https://insas.be/site/wp-content/uploads/2014/09/Still4small.jpg
GEO:50.8442226;4.3595052
X-APPLE-STRUCTURED-LOCATION;VALUE=URI;X-ADDRESS=Palais des Beaux-Arts – BOZAR Rue Ravenstein 23 Bruxelles 1000 Belgium;X-APPLE-RADIUS=500;X-TITLE=Rue Ravenstein 23:geo:4.3595052,50.8442226
END:VEVENT
BEGIN:VEVENT
DTSTART;TZID=Europe/Brussels:20140919T200000
DTEND;TZID=Europe/Brussels:20140919T200000
DTSTAMP:20260423T174321
CREATED:20140911T103349Z
LAST-MODIFIED:20140911T103448Z
UID:11586-1411156800-1411156800@insas.be
SUMMARY:Première de "Before we go" de Jorge León
DESCRIPTION:
URL:https://insas.be/evenement/premiere-de-before-we-go-de-jorge-leon/
LOCATION:Palais des Beaux-Arts – BOZAR\, Rue Ravenstein 23\, Bruxelles\, 1000\, Belgium
CATEGORIES:Cinéma
ATTACH;FMTTYPE=image/jpeg:https://insas.be/site/wp-content/uploads/2014/09/before_1.jpg
GEO:50.8442226;4.3595052
X-APPLE-STRUCTURED-LOCATION;VALUE=URI;X-ADDRESS=Palais des Beaux-Arts – BOZAR Rue Ravenstein 23 Bruxelles 1000 Belgium;X-APPLE-RADIUS=500;X-TITLE=Rue Ravenstein 23:geo:4.3595052,50.8442226
END:VEVENT
BEGIN:VEVENT
DTSTART;TZID=Europe/Brussels:20140913T170000
DTEND;TZID=Europe/Brussels:20140913T200000
DTSTAMP:20260423T174321
CREATED:20140911T150918Z
LAST-MODIFIED:20140911T152314Z
UID:11592-1410627600-1410638400@insas.be
SUMMARY:Projection de "Mouettes" aux Riches-Claires
DESCRIPTION:
URL:https://insas.be/evenement/projection-de-mouettes-aux-riches-claires/
CATEGORIES:Cinéma
ATTACH;FMTTYPE=image/jpeg:https://insas.be/site/wp-content/uploads/2014/04/MOUETTES_1.jpg
END:VEVENT
BEGIN:VEVENT
DTSTART;TZID=Europe/Brussels:20140227T180000
DTEND;TZID=Europe/Brussels:20140227T235500
DTSTAMP:20260423T174321
CREATED:20140216T133108Z
LAST-MODIFIED:20140216T133156Z
UID:11132-1393524000-1393545300@insas.be
SUMMARY:Les  aventures  de  François R.  et  t'Hérésie N.
DESCRIPTION:Une grande soirée de projection destinée aux étudiants et  à la communauté de l’INSAS\, organisée par Les Amis de l’INSAS. “Nos talents issus des sections des Arts vivants portés à l’écran par nos étudiants des sections audio-visuelles\, ou comment Rabelais séduit Thérésienne pour en faire de beaux films…” \nProgramme: \n\nRachid et Martha de Mathias Gokalp (1999)\, avec Lotfi Yahya\, Raphaëlle Gersmer\, Erwin Grünbspan\, Blaise Ludik\, Anne\, Paulicevich et Vincent Pollet – Prix Cinergie au Festival Media 10/10\nUn Duel de Pascale Brishoux (2010)\, avec Lucie Debay et Alain Eloy\nBang Bang de Raphaël Letoux-Longo (2011)\, avec Blaise Ludik\, Francine Laffineuse et Benjamin Ramon\nTu Seras Mon Allié de Rosine Mbakam (2012)\, avec Bwanga Pilipili et Gaël Maleux\nMouettes de Zeno Graton (2013)\, avec Judith Williquet et Damien Chapelle 3 Bayards (Film\, Actrice\, Photographie) FIFF 2013\nShutter Island\, avec Geoffrey Boissy & The Reader avec Charlotte Bouriez & Thomas Coumans Image Imposée II: remake photographique de séquences de film\n\nSéances à 18:00 et à 20:00 \nRéservation à giulia.desidera@insas.be (votre nom + séance de votre choix 18h ou 20h)
URL:https://insas.be/evenement/les-aventures-de-francois-r-et-theresie-n/
LOCATION:INSAS – Département Théâtre\, Rue Émile Féron 153\, Bruxelles\, 1060
CATEGORIES:Cinéma
GEO:50.8348664;4.366394
X-APPLE-STRUCTURED-LOCATION;VALUE=URI;X-ADDRESS=INSAS – Département Théâtre Rue Émile Féron 153 Bruxelles 1060;X-APPLE-RADIUS=500;X-TITLE=Rue Émile Féron 153:geo:4.366394,50.8348664
END:VEVENT
BEGIN:VEVENT
DTSTART;TZID=Europe/Brussels:20140110T193000
DTEND;TZID=Europe/Brussels:20140110T230000
DTSTAMP:20260423T174321
CREATED:20140108T091957Z
LAST-MODIFIED:20140108T092118Z
UID:10980-1389382200-1389394800@insas.be
SUMMARY:Les Quatre saisons de cinergie
DESCRIPTION:Cinergie a proposé une carte blanche à Vivian Goffette et lui a laissé libre choix pour programmer la séance d’hiver des Quatre saisons de Cinergie. Vivian Goffette\, réalisateur de “Yamdam”\, la dernière production des Cinéastes associés\, est également professeur à l’INSAS et à l’INRACI. Vivian a choisi de montrer des réalisations de quelques-uns de ses étudiants. La soirée d’hiver des Quatre saisons de cinergie lui ouvre sa programmation et propose le choix du professeur\, précédé par la projection d’une de ses réalisations; la Carte postale\, un court métrage qui annonçait le talent du cinéaste qui déploya toute son énergie dans l’aboutissement de son premier long métrage\, Yamdam. \nAux côtés de la “Carte Postale”\, le court métrage qu’il a réalisé en 1997\, on pourra y découvrir “En attendant le dégel”\, de Sarah Hirtt\, “L’attrape-rêve”\, de Léo Médard\, “Le pissenlit”\, de Sophie-Clémentine Dubois\, et “Au nom de l’honneur”\, de Nathalie Leclercq. Quatre films de fin d’études de réalisateurs\, à l’époque\, en devenir. La séance du 10 janvier 2014 s’annonce pleine de surprises teintées de nostalgie et d’irréel. La projection aura lieu\, comme a son habitude\, au Studio 5 de Flagey à 19h30. \nLe vendredi 10 janvier 2014 à 19h30. Flagey\, Studio 5 \nLa programmation :\nLa carte postale de Vivian Goffette\nEn attendant le dégel de Sarah Hirtt\nL’attrape-rêve de Léo Médard\nLe pissenlit de Sophie-Clémentine Dubois\nAu nom de l’honneur de Nathalie Leclercq \nRéservation : info@cinergie.be
URL:https://insas.be/evenement/quatre-saisons/
LOCATION:Flagey\, Place Sainte Croix\, Ixelles\, 1050\, Belgium
CATEGORIES:Cinéma
ATTACH;FMTTYPE=image/jpeg:https://insas.be/site/wp-content/uploads/2014/01/2013_MST5_DUBOIS_LCR_INSAS_720P.jpg
ORGANIZER;CN="Cinergie%20asbl":MAILTO:info@cinergie.be
END:VEVENT
BEGIN:VEVENT
DTSTART;TZID=Europe/Brussels:20131212T200000
DTEND;TZID=Europe/Brussels:20131212T233000
DTSTAMP:20260423T174321
CREATED:20131130T121441Z
LAST-MODIFIED:20131130T121441Z
UID:10820-1386878400-1386891000@insas.be
SUMMARY:Comme un bruit de machine à coudre
DESCRIPTION:Comme un bruit de machine à coudre\nSophie Bruneau\, 2012\, BE\, audio\, vo fr\, 40′\n12.12 > 20:00 \nGénéralement réservé à la diffusion d’œuvres filmées\, cette séance Prima Nova sera quelque peu particulière. Dans la pénombre de la salle de cinéma nous vous inviterons à fermer les yeux et à aiguiser l’oreille pour découvrir les nombreux détails d’un documentaire de création sonore. Il s’agira néanmoins toujours de cinéma. “Comme un bruit de machine à coudre” est en effet un voyage dans le temps\, qui nous fait revivre quelques-unes des évolutions majeures dans l’histoire du son au cinéma. Le guide et mentor de ce voyage n’est autre que Jean-Pierre Verscheure\, historien et spécialiste des techniques cinématographiques (sonores et de projection)\, avec qui le Nova a à plusieurs reprises organisé des séances de divulgation sur l’histoire du cinéma. À l’aide de moyens techniques rares\, Jean-Pierre Verscheure nous fait redécouvrir des sons oubliés\, perdus ou inconnus\, et nous invite ainsi à (re)voir autrement des films de jadis. C’est d’ailleurs dans le café du cinéma Nova que la séquence du “Salon Indien” (avec un projecteur des Frères Lumière) fut enregistrée. L’intimité de notre salle de cinéma sera sans aucun doute un beau lieu d’abordage pour ce voyage sonore. \nEn présence de Sophie Bruneau et de Jean-Pierre Verscheure. \nIl était une fois des avant-programmes\n35mm\, vo en & fr\,\n12.12 > 22:00 \nSuite à la diffusion du documentaire sonore “Comme un bruit de machine à coudre” nous vous invitons à poursuivre la soirée avec une séance de films d’archive en pellicule\, rares voire rarissimes. Car quoi de plus normal que de demander à Jean-Pierre Verscheure de nous concocter un programme comme seul lui peut le faire. Cette fois-ci il nous emmènera dans l’univers des avant-programmes. Aujourd’hui la projection d’un film\, dans une salle de cinéma\, est souvent précédée par une suite de publicités plus navrantes les unes que les autres. Autrefois\, un avant-programme était souvent constitué d’un dessin animé ou d’un court métrage\, d’une bande annonce\, d’un documentaire (ou d’une actualité). Pendant très longtemps ces films courts ont été réalisés par des unités de production liées à des “majors”\, et par des réalisateurs talentueux. Mais comme c’est souvent le cas dans le cinéma\, le mode de production de ces avant-programmes a subi plusieurs changements\, en fonction des évolutions dans l’économie du cinéma. Des “two-reel comedies” (comédies en deux bobines\, très célèbres dans les années 1920 et 1930) aux bandes annonces et pubs belges des années ’70\, cette séance sera un tour d’horizon de petits films singuliers\, bizarres ou rigolos réalisés pour être diffusés dans cette antichambre du cinéma. Avec peut-être l’une ou l’autre perle rare\, car à l’époque censurée. À ne pas manquer ! \nGratuit
URL:https://insas.be/evenement/comme-un-bruit-de-machine-a-coudre/
LOCATION:Cinéma Nova\, Rue d’Arenberg 3\, Bruxelles\, 1000\, Belgium
CATEGORIES:Cinéma
ATTACH;FMTTYPE=image/jpeg:https://insas.be/site/wp-content/uploads/2013/11/comme_1_bruit_de_machine_coudre.jpg
ORGANIZER;CN="Nova":MAILTO:nova@nova-cinema.org
END:VEVENT
END:VCALENDAR